Workbook

Sheet PIANO BIS
B2: Benvenuti nel kakebo di
K17: info@pianobis.it
K18: www.pianobis.it

Sheet Come funziona
B2: COME FUNZIONA
B4: Kakebo ti guiderà nel risparmio di denaro chiedendoti ogni mese di porti 4 DOMANDE:
B6: 1) DI QUALE CIFRA DISPONI?
B7: Calcola il denaro che hai a disposizione deducendo ogni uscita fissa (es: affitto, abbonamenti ai trasporti, ecc…)
B9: 2) QUANTO INTENDI RISPARMIARE?
B10: Stabilisci un obbiettivo di risparmio e calcola il limite di spesa settimanale necessario a raggiungere lo scopo
B12: 3) QUANTO STAI SPENDENDO?
B13: Tieni un registro dei conti sul quale annotare ogni giorno il totale delle uscite per categoria di spesa
B15: 4) COME PUOI MIGLIORARE?
B16: Al termine di ogni settimana e a fine mese, pensa ai progressi che hai fatto e verifica se sei sulla strada giusta.
B17: Rifletti su cosa cambieresti il mese successivo
B19: Come funziona: PIANO DI SPESA
B22: QUANTI SOLDI TI ENTRANO? Fai una lista di tutte le tue fonti di reddito riportando le relative cifre (al netto delle deduzioni quali tasse, assicurazioni, ecc…). | Q22: QUANTO VUOI RISPARMIARE? Stabilisci la cifra che vorresti aver risparmiato alla fine del mese. Sii realista, se fatichi a risparmiare € 100 al mese, difficilmente puoi partire con € 500. Man mano che vai avanti con il kakebo, pero', i tuoi obbiettivi potranno farsi piu' ambiziosi e la cifra da risparmiare piu' alta.
B32: QUANTI SOLDI DEVONO USCIRE? Annota le uscite mensili fisse (al netto delle voci variabili quali il cibo). | Q32: QUANTO DOVRESTI SPENDERE? Viene sottratta la cifra che vuoi risparmiare (TOTALE D) dall'importo che hai a disposizione (TOTALE C) per ottenere il totale. Poi, dividi per il numero di settimane che mancano al tuo prossimo stipendio per ottenere l'importo settimanale.
B47: QUANTI SOLDI TI RESTANO? Viene sottratto il totale del punto 2 dal totale del punto 1 (quindi le uscite fisse dalle entrate) per ricavare la cifra di cui disponi. | K47: NOTE Scrivi l'obiettivo del mese o qualche incoraggiamento.
B51: Come funziona: SPESA SETTIMANALE
B53: E' il tuo budget di spesa settimanale. Corrisponde al TOTALE (E) del piano di spesa
R54: Su questa colonna troverai i totali per categoria in modo da poter analizzare dove finiscono i tuoi soldi.
B59: Inserisci le categorie che rientrano nel tuo stile di vita.
R61: Aggiungi note che possano esserti utili.
B65: Compila via via la tua nota spese.
D69: A fine tabella troverai i totali giornalieri in modo da tenere sotto controllo quanto hai speso ogni giorno. | K69: Controlla di non aver sforato.
B72: Come funziona: REVISIONE DI SPESA
R75: Ce l'hai fatta? Annota il tuo risparmio: Punto(4) - TOTALE (D) del piano di spesa
B76: E' il TOTALE (C) del tuo piano di spesa.
B80: E' il TOTALE (E) del tuo piano di spesa.
R82: Annota qualunque modo trovi per ridurre le tue spese.
B84: E' il totale delle spese settimanali del mese.
R88: Tenere settimanalmente traccia dei totali per categoria ti permetterà di individuare dove finiscono i tuoi soldi.
B89: Viene sottratto l'importo del punto 3 all'importo del punto 1.
B94: Grafico andamento del mese. Delta obiettivo = Punto(4) - TOTALE (D) del piano di spesa
R97: Impara da questo mese e pianifica il prossimo.

Sheet GENNAIO
B2: MESE | C2: GENNAIO
B4: Quanti soldi ti entrano? | I4: Quanto vuoi risparmiare?
B5: DATA | C5: FONTE | F5: IMPORTO | I5: TOTALE (D) | K5: 400
B6: 43475 | C6: stipendio | F6: 2000
B7: 45672 | C7: airbnb | F7: 300 | I7: Per cosa?
B8: 45682 | C8: libera professione | F8: 500 | I8: vacanza in Marocco primo mese 150 euro, 200 euro matrimonio
C12: TOTALE (A) | F12: =SUM(F6:F11) -> 2800
B14: Quanti soldi devono uscire? | I14: Quanto dovresti spendere?
B15: DATA | C15: CATEGORIA | F15: IMPORTO | I15: TOTALE (C) | K15: TOTALE (D) | M15: TOTALE (E)
B16: 43475 | C16: rata mutuo | F16: 670 | I16: =+F30 -> 1311 | K16: =+K5 -> 400 | M16: =+I16-K16 -> 911
B17: 43480 | C17: bollette | F17: 189
B18: 43480 | C18: imprevisti | F18: 0 | I18: TOTALE (E) | K18: SETTIMANE | M18: TOTALE (E)
B19: 43480 | C19: manutenzione auto | F19: 200 | I19: =+M16 -> 911 | K19: 5 | M19: =+I19/K19 -> 182.2
B20: 43485 | C20: baby sitter | F20: 160
B21: 43485 | C21: sport | F21: 60 | I21: NOTE
B22: 45682 | C22: sport bimbi | F22: 110
C23: PAC | F23: 100
C26: TOTALE (B) | F26: =SUM(F16:F25) -> 1489
B28: Quanti soldi ti restano?
B29: TOTALE (A) | D29: TOTALE (B) | F29: TOTALE (C)
B30: =+F12 -> 2800 | D30: =+F26 -> 1489 | F30: =+B30-D30 -> 1311

Sheet GEN-Set 1
B2: SETTIMANA 1 | C2: =GENNAIO!C2 -> GENNAIO | G2: BUDGET SETTIMANALE | J2: =+GENNAIO!M19 -> 182.2
G3: RISPARMIO SETTIMANALE | J3: =+J2-J31 -> 132.2
B4: CATEGORIA | C4: LUN | D4: MAR | E4: MER | F4: GIO | G4: VEN | H4: SAB | I4: DOM | J4: TOTALE | L4: MEMO
B5: spesa | J5: =SUM(C5:I5) -> 0 | L5: Anche un viaggio di mille kilometri inizia con un piccolo passo
B6: abbigliamento | C6: 50 | J6: =SUM(C6:I6) -> 50
B7: ristorante | J7: =SUM(C7:I7) -> 0
B8: bar | J8: =SUM(C8:I8) -> 0
B9: farmacia | J9: =SUM(C9:I9) -> 0
B10: visite mediche | J10: =SUM(C10:I10) -> 0
B11: parrucchiere | J11: =SUM(C11:I11) -> 0
J12: =SUM(C12:I12) -> 0
J13: =SUM(C13:I13) -> 0
J14: =SUM(C14:I14) -> 0
J15: =SUM(C15:I15) -> 0
J16: =SUM(C16:I16) -> 0
J17: =SUM(C17:I17) -> 0
J18: =SUM(C18:I18) -> 0
J19: =SUM(C19:I19) -> 0
J20: =SUM(C20:I20) -> 0
J21: =SUM(C21:I21) -> 0
J22: =SUM(C22:I22) -> 0
J23: =SUM(C23:I23) -> 0
... J30: =SUM(C30:I30) -> 0
B31: TOTALE | C31: =SUM(C5:C30) -> 50 | D31: =SUM(D5:D30) -> 0 | E31: =SUM(E5:E30) -> 0 | F31: =SUM(F5:F30) -> 0 | G31: =SUM(G5:G30) -> 0 | H31: =SUM(H5:H30) -> 0 | I31: =SUM(I5:I30) -> 0 | J31: =SUM(C31:I31) -> 50

Sheet GEN-Set 2
B2: SETTIMANA 2 | C2: =GENNAIO!C2 -> GENNAIO | G2: BUDGET SETTIMANALE | J2: =+GENNAIO!M19 -> 182.2
G3: RISPARMIO SETTIMANALE | J3: =+J2-J31 -> -417.8
B4: CATEGORIA | C4: LUN | D4: MAR | E4: MER | F4: GIO | G4: VEN | H4: SAB | I4: DOM | J4: TOTALE | L4: MEMO
B5: spesa | J5: =SUM(C5:I5) -> 0
B6: abbigliamento | D6: 600 | J6: =SUM(C6:I6) -> 600
B7: ristorante | J7: =SUM(C7:I7) -> 0
B8: bar | J8: =SUM(C8:I8) -> 0
B9: farmacia | J9: =SUM(C9:I9) -> 0
B10: visite mediche | J10: =SUM(C10:I10) -> 0
B11: parrucchiere | J11: =SUM(C11:I11) -> 0
J12: =SUM(C12:I12) -> 0
J13: =SUM(C13:I13) -> 0
J14: =SUM(C14:I14) -> 0
J15: =SUM(C15:I15) -> 0
J16: =SUM(C16:I16) -> 0
J17: =SUM(C17:I17) -> 0
J18: =SUM(C18:I18) -> 0
J19: =SUM(C19:I19) -> 0
J20: =SUM(C20:I20) -> 0
J21: =SUM(C21:I21) -> 0
J22: =SUM(C22:I22) -> 0
J23: =SUM(C23:I23) -> 0
... J30: =SUM(C30:I30) -> 0
B31: TOTALE | C31: =SUM(C5:C30) -> 0 | D31: =SUM(D5:D30) -> 600 | E31: =SUM(E5:E30) -> 0 | F31: =SUM(F5:F30) -> 0 | G31: =SUM(G5:G30) -> 0 | H31: =SUM(H5:H30) -> 0 | I31: =SUM(I5:I30) -> 0 | J31: =SUM(C31:I31) -> 600

Sheet GEN-Set 3
B2: SETTIMANA 3 | C2: =GENNAIO!C2 -> GENNAIO | G2: BUDGET SETTIMANALE | J2: =+GENNAIO!M19 -> 182.2
G3: RISPARMIO SETTIMANALE | J3: =+J2-J31 -> 182.2
B4: CATEGORIA | C4: LUN | D4: MAR | E4: MER | F4: GIO | G4: VEN | H4: SAB | I4: DOM | J4: TOTALE | L4: MEMO
J5: =SUM(C5:I5) -> 0
J6: =SUM(C6:I6) -> 0
J7: =SUM(C7:I7) -> 0
J8: =SUM(C8:I8) -> 0
J9: =SUM(C9:I9) -> 0
J10: =SUM(C10:I10) -> 0
J11: =SUM(C11:I11) -> 0
J12: =SUM(C12:I12) -> 0
J13: =SUM(C13:I13) -> 0
J14: =SUM(C14:I14) -> 0
J15: =SUM(C15:I15) -> 0
J16: =SUM(C16:I16) -> 0
... J30: =SUM(C30:I30) -> 0
B31: TOTALE | C31: =SUM(C5:C30) -> 0 | D31: =SUM(D5:D30) -> 0 | E31: =SUM(E5:E30) -> 0 | F31: =SUM(F5:F30) -> 0 | G31: =SUM(G5:G30) -> 0 | H31: =SUM(H5:H30) -> 0 | I31: =SUM(I5:I30) -> 0 | J31: =SUM(C31:I31) -> 0

Sheet GEN-Set 4
B2: SETTIMANA 4 | C2: =GENNAIO!C2 -> GENNAIO | G2: BUDGET SETTIMANALE | J2: =+GENNAIO!M19 -> 182.2
G3: RISPARMIO SETTIMANALE | J3: =+J2-J31 -> 182.2
B4: CATEGORIA | C4: LUN | D4: MAR | E4: MER | F4: GIO | G4: VEN | H4: SAB | I4: DOM | J4: TOTALE | L4: MEMO
J5: =SUM(C5:I5) -> 0
J6: =SUM(C6:I6) -> 0
J7: =SUM(C7:I7) -> 0
J8: =SUM(C8:I8) -> 0
J9: =SUM(C9:I9) -> 0
J10: =SUM(C10:I10) -> 0
J11: =SUM(C11:I11) -> 0
J12: =SUM(C12:I12) -> 0
J13: =SUM(C13:I13) -> 0
J14: =SUM(C14:I14) -> 0
J15: =SUM(C15:I15) -> 0
J16: =SUM(C16:I16) -> 0
... J30: =SUM(C30:I30) -> 0
B31: TOTALE | C31: =SUM(C5:C30) -> 0 | D31: =SUM(D5:D30) -> 0 | E31: =SUM(E5:E30) -> 0 | F31: =SUM(F5:F30) -> 0 | G31: =SUM(G5:G30) -> 0 | H31: =SUM(H5:H30) -> 0 | I31: =SUM(I5:I30) -> 0 | J31: =SUM(C31:I31) -> 0

Sheet GEN-Set 5
B2: SETTIMANA 5 | C2: =GENNAIO!C2 -> GENNAIO | G2: BUDGET SETTIMANALE | J2: =IF(GENNAIO!K19=5,+GENNAIO!M19,0) -> 182.2
G3: RISPARMIO SETTIMANALE | J3: =+J2-J31 -> 182.2
B4: CATEGORIA | C4: LUN | D4: MAR | E4: MER | F4: GIO | G4: VEN | H4: SAB | I4: DOM | J4: TOTALE | L4: MEMO
J5: =SUM(C5:I5) -> 0
J6: =SUM(C6:I6) -> 0
J7: =SUM(C7:I7) -> 0
J8: =SUM(C8:I8) -> 0
J9: =SUM(C9:I9) -> 0
J10: =SUM(C10:I10) -> 0
J11: =SUM(C11:I11) -> 0
J12: =SUM(C12:I12) -> 0
J13: =SUM(C13:I13) -> 0
J14: =SUM(C14:I14) -> 0
J15: =SUM(C15:I15) -> 0
J16: =SUM(C16:I16) -> 0
... J30: =SUM(C30:I30) -> 0
B31: TOTALE | C31: =SUM(C5:C30) -> 0 | D31: =SUM(D5:D30) -> 0 | E31: =SUM(E5:E30) -> 0 | F31: =SUM(F5:F30) -> 0 | G31: =SUM(G5:G30) -> 0 | H31: =SUM(H5:H30) -> 0 | I31: =SUM(I5:I30) -> 0 | J31: =SUM(C31:I31) -> 0

Sheet GEN-REV
B2: REVISIONE | D2: =GENNAIO!C2 -> GENNAIO | I2: Hai raggiunto il tuo obiettivo di risparmio mensile?
B4: Quanti soldi potevi spendere questo mese?
B5: =+GENNAIO!I16 -> 1311
B7: Quanto volevi spendere?
B8: =+GENNAIO!M16 -> 911
B10: Quanto hai speso? | I10: Che sistemi hai trovato per risparmiare?
B11: =+'GEN-Set 1'!J31+'GEN-Set 2'!J31+'GEN-Set 3'!J31+'GEN-Set 4'!J31+'GEN-Set 5'!J31 -> 650
B13: Quanto risparmi questo mese?
B14: =+B5-B11 -> 661
F16: =+B14-GENNAIO!K5 -> 261
I18: Quali sono le categorie in cui spendi troppo?
I26: Cosa cambierai il prossimo mese?

Sheet FEBBRAIO
B2: MESE | C2: FEBBRAIO
B4: Quanti soldi ti entrano? | I4: Quanto vuoi risparmiare?
B5: DATA | C5: FONTE | F5: IMPORTO | I5: TOTALE (D)
I7: Per cosa?
C12: TOTALE (A) | F12: =SUM(F6:F11) -> 0
B14: Quanti soldi devono uscire? | I14: Quanto dovresti spendere?
B15: DATA | C15: CATEGORIA | F15: IMPORTO | I15: TOTALE (C) | K15: TOTALE (D) | M15: TOTALE (E)
I16: =+F30 -> 0 | K16: =+K5 -> 0 | M16: =+I16-K16 -> 0
I18: TOTALE (E) | K18: SETTIMANE | M18: TOTALE (E)
I19: =+M16 -> 0 | K19: 1 | M19: =+I19/K19 -> 0
I21: NOTE
C26: TOTALE (B) | F26: =SUM(F16:F25) -> 0
B28: Quanti soldi ti restano?
B29: TOTALE (A) | D29: TOTALE (B) | F29: TOTALE (C)
B30: =+F12 -> 0 | D30: =+F26 -> 0 | F30: =+B30-D30 -> 0

Sheet FEB-Set 1
B2: SETTIMANA 1 | C2: =FEBBRAIO!C2 -> FEBBRAIO | G2: BUDGET SETTIMANALE | J2: =+FEBBRAIO!M19 -> 0
G3: RISPARMIO SETTIMANALE | J3: =+J2-J31 -> 0
B4: CATEGORIA | C4: LUN | D4: MAR | E4: MER | F4: GIO | G4: VEN | H4: SAB | I4: DOM | J4: TOTALE | L4: MEMO
J5: =SUM(C5:I5) -> 0 | L5: L'acqua rovesciata non può tornare nel vaso
J6: =SUM(C6:I6) -> 0
J7: =SUM(C7:I7) -> 0
J8: =SUM(C8:I8) -> 0
J9: =SUM(C9:I9) -> 0
J10: =SUM(C10:I10) -> 0
J11: =SUM(C11:I11) -> 0
J12: =SUM(C12:I12) -> 0
J13: =SUM(C13:I13) -> 0
J14: =SUM(C14:I14) -> 0
J15: =SUM(C15:I15) -> 0
J16: =SUM(C16:I16) -> 0
J17: =SUM(C17:I17) -> 0
... J30: =SUM(C30:I30) -> 0
B31: TOTALE | C31: =SUM(C5:C30) -> 0 | D31: =SUM(D5:D30) -> 0 | E31: =SUM(E5:E30) -> 0 | F31: =SUM(F5:F30) -> 0 | G31: =SUM(G5:G30) -> 0 | H31: =SUM(H5:H30) -> 0 | I31: =SUM(I5:I30) -> 0 | J31: =SUM(C31:I31) -> 0

Sheet FEB-Set 2
B2: SETTIMANA 2 | C2: =FEBBRAIO!C2 -> FEBBRAIO | G2: BUDGET SETTIMANALE | J2: =+FEBBRAIO!M19 -> 0
G3: RISPARMIO SETTIMANALE | J3: =+J2-J31 -> 0
B4: CATEGORIA | C4: LUN | D4: MAR | E4: MER | F4: GIO | G4: VEN | H4: SAB | I4: DOM | J4: TOTALE | L4: MEMO
J5: =SUM(C5:I5) -> 0
J6: =SUM(C6:I6) -> 0
J7: =SUM(C7:I7) -> 0
J8: =SUM(C8:I8) -> 0
J9: =SUM(C9:I9) -> 0
J10: =SUM(C10:I10) -> 0
J11: =SUM(C11:I11) -> 0
J12: =SUM(C12:I12) -> 0
J13: =SUM(C13:I13) -> 0
J14: =SUM(C14:I14) -> 0
J15: =SUM(C15:I15) -> 0
J16: =SUM(C16:I16) -> 0
... J30: =SUM(C30:I30) -> 0
B31: TOTALE | C31: =SUM(C5:C30) -> 0 | D31: =SUM(D5:D30) -> 0 | E31: =SUM(E5:E30) -> 0 | F31: =SUM(F5:F30) -> 0 | G31: =SUM(G5:G30) -> 0 | H31: =SUM(H5:H30) -> 0 | I31: =SUM(I5:I30) -> 0 | J31: =SUM(C31:I31) -> 0

Sheet FEB-Set 3
B2: SETTIMANA 3 | C2: =FEBBRAIO!C2 -> FEBBRAIO | G2: BUDGET SETTIMANALE | J2: =+FEBBRAIO!M19 -> 0
G3: RISPARMIO SETTIMANALE | J3: =+J2-J31 -> 0
B4: CATEGORIA | C4: LUN | D4: MAR | E4: MER | F4: GIO | G4: VEN | H4: SAB | I4: DOM | J4: TOTALE | L4: MEMO
J5: =SUM(C5:I5) -> 0
J6: =SUM(C6:I6) -> 0
J7: =SUM(C7:I7) -> 0
J8: =SUM(C8:I8) -> 0
J9: =SUM(C9:I9) -> 0
J10: =SUM(C10:I10) -> 0
J11: =SUM(C11:I11) -> 0
J12: =SUM(C12:I12) -> 0
J13: =SUM(C13:I13) -> 0
J14: =SUM(C14:I14) -> 0
J15: =SUM(C15:I15) -> 0
J16: =SUM(C16:I16) -> 0
... J30: =SUM(C30:I30) -> 0
B31: TOTALE | C31: =SUM(C5:C30) -> 0 | D31: =SUM(D5:D30) -> 0 | E31: =SUM(E5:E30) -> 0 | F31: =SUM(F5:F30) -> 0 | G31: =SUM(G5:G30) -> 0 | H31: =SUM(H5:H30) -> 0 | I31: =SUM(I5:I30) -> 0 | J31: =SUM(C31:I31) -> 0

Sheet FEB-Set 4
B2: SETTIMANA 4 | C2: =FEBBRAIO!C2 -> FEBBRAIO | G2: BUDGET SETTIMANALE | J2: =+FEBBRAIO!M19 -> 0
G3: RISPARMIO SETTIMANALE | J3: =+J2-J31 -> 0
B4: CATEGORIA | C4: LUN | D4: MAR | E4: MER | F4: GIO | G4: VEN | H4: SAB | I4: DOM | J4: TOTALE | L4: MEMO
J5: =SUM(C5:I5) -> 0
J6: =SUM(C6:I6) -> 0
J7: =SUM(C7:I7) -> 0
J8: =SUM(C8:I8) -> 0
J9: =SUM(C9:I9) -> 0
J10: =SUM(C10:I10) -> 0
J11: =SUM(C11:I11) -> 0
J12: =SUM(C12:I12) -> 0
J13: =SUM(C13:I13) -> 0
J14: =SUM(C14:I14) -> 0
J15: =SUM(C15:I15) -> 0
J16: =SUM(C16:I16) -> 0
... J30: =SUM(C30:I30) -> 0
B31: TOTALE | C31: =SUM(C5:C30) -> 0 | D31: =SUM(D5:D30) -> 0 | E31: =SUM(E5:E30) -> 0 | F31: =SUM(F5:F30) -> 0 | G31: =SUM(G5:G30) -> 0 | H31: =SUM(H5:H30) -> 0 | I31: =SUM(I5:I30) -> 0 | J31: =SUM(C31:I31) -> 0

Sheet FEB-Set 5
B2: SETTIMANA 5 | C2: =FEBBRAIO!C2 -> FEBBRAIO | G2: BUDGET SETTIMANALE | J2: =IF(FEBBRAIO!K19=5,+FEBBRAIO!M19,0) -> 0
G3: RISPARMIO SETTIMANALE | J3: =+J2-J31 -> 0
B4: CATEGORIA | C4: LUN | D4: MAR | E4: MER | F4: GIO | G4: VEN | H4: SAB | I4: DOM | J4: TOTALE | L4: MEMO
J5: =SUM(C5:I5) -> 0
J6: =SUM(C6:I6) -> 0
J7: =SUM(C7:I7) -> 0
J8: =SUM(C8:I8) -> 0
J9: =SUM(C9:I9) -> 0
J10: =SUM(C10:I10) -> 0
J11: =SUM(C11:I11) -> 0
J12: =SUM(C12:I12) -> 0
J13: =SUM(C13:I13) -> 0
J14: =SUM(C14:I14) -> 0
J15: =SUM(C15:I15) -> 0
J16: =SUM(C16:I16) -> 0
... J30: =SUM(C30:I30) -> 0
B31: TOTALE | C31: =SUM(C5:C30) -> 0 | D31: =SUM(D5:D30) -> 0 | E31: =SUM(E5:E30) -> 0 | F31: =SUM(F5:F30) -> 0 | G31: =SUM(G5:G30) -> 0 | H31: =SUM(H5:H30) -> 0 | I31: =SUM(I5:I30) -> 0 | J31: =SUM(C31:I31) -> 0

Sheet FEB-REV
B2: REVISIONE | D2: =FEBBRAIO!C2 -> FEBBRAIO | I2: Hai raggiunto il tuo obiettivo di risparmio mensile?
B4: Quanti soldi potevi spendere questo mese?
B5: =+FEBBRAIO!I16 -> 0
B7: Quanto volevi spendere?
B8: =+FEBBRAIO!M16 -> 0
B10: Quanto hai speso? | I10: Che sistemi hai trovato per risparmiare?
B11: =+'FEB-Set 1'!J31+'FEB-Set 2'!J31+'FEB-Set 3'!J31+'FEB-Set 4'!J31+'FEB-Set 5'!J31 -> 0
B13: Quanto risparmi questo mese?
B14: =+B5-B11 -> 0
F16: =+B14-FEBBRAIO!K5 -> 0
I18: Quali sono le categorie in cui spendi troppo?
I26: Cosa cambierai il prossimo mese?

Sheet MARZO
B2: MESE | C2: MARZO
B4: Quanti soldi ti entrano? | I4: Quanto vuoi risparmiare?
B5: DATA | C5: FONTE | F5: IMPORTO | I5: TOTALE (D)
I7: Per cosa?
C12: TOTALE (A) | F12: =SUM(F6:F11) -> 0
B14: Quanti soldi devono uscire? | I14: Quanto dovresti spendere?
B15: DATA | C15: CATEGORIA | F15: IMPORTO | I15: TOTALE (C) | K15: TOTALE (D) | M15: TOTALE (E)
I16: =+F30 -> 0 | K16: =+K5 -> 0 | M16: =+I16-K16 -> 0
I18: TOTALE (E) | K18: SETTIMANE | M18: TOTALE (E)
I19: =+M16 -> 0 | K19: 1 | M19: =+I19/K19 -> 0
I21: NOTE
C26: TOTALE (B) | F26: =SUM(F16:F25) -> 0
B28: Quanti soldi ti restano?
B29: TOTALE (A) | D29: TOTALE (B) | F29: TOTALE (C)
B30: =+F12 -> 0 | D30: =+F26 -> 0 | F30: =+B30-D30 -> 0

Sheet MAR-Set 1
B2: SETTIMANA 1 | C2: =MARZO!C2 -> MARZO | G2: BUDGET SETTIMANALE | J2: =+MARZO!M19 -> 0
G3: RISPARMIO SETTIMANALE | J3: =+J2-J31 -> 0
B4: CATEGORIA | C4: LUN | D4: MAR | E4: MER | F4: GIO | G4: VEN | H4: SAB | I4: DOM | J4: TOTALE | L4: MEMO
J5: =SUM(C5:I5) -> 0 | L5: Anche le scimmie cadono dagli alberi
J6: =SUM(C6:I6) -> 0
J7: =SUM(C7:I7) -> 0
J8: =SUM(C8:I8) -> 0
J9: =SUM(C9:I9) -> 0
J10: =SUM(C10:I10) -> 0
J11: =SUM(C11:I11) -> 0
J12: =SUM(C12:I12) -> 0
J13: =SUM(C13:I13) -> 0
J14: =SUM(C14:I14) -> 0
J15: =SUM(C15:I15) -> 0
J16: =SUM(C16:I16) -> 0
J17: =SUM(C17:I17) -> 0
... J30: =SUM(C30:I30) -> 0
B31: TOTALE | C31: =SUM(C5:C30) -> 0 | D31: =SUM(D5:D30) -> 0 | E31: =SUM(E5:E30) -> 0 | F31: =SUM(F5:F30) -> 0 | G31: =SUM(G5:G30) -> 0 | H31: =SUM(H5:H30) -> 0 | I31: =SUM(I5:I30) -> 0 | J31: =SUM(C31:I31) -> 0

Sheet MAR-Set 2
B2: SETTIMANA 2 | C2: =MARZO!C2 -> MARZO | G2: BUDGET SETTIMANALE | J2: =+MARZO!M19 -> 0
G3: RISPARMIO SETTIMANALE | J3: =+J2-J31 -> 0
B4: CATEGORIA | C4: LUN | D4: MAR | E4: MER | F4: GIO | G4: VEN | H4: SAB | I4: DOM | J4: TOTALE | L4: MEMO
J5: =SUM(C5:I5) -> 0
J6: =SUM(C6:I6) -> 0
J7: =SUM(C7:I7) -> 0
J8: =SUM(C8:I8) -> 0
J9: =SUM(C9:I9) -> 0
J10: =SUM(C10:I10) -> 0
J11: =SUM(C11:I11) -> 0
J12: =SUM(C12:I12) -> 0
J13: =SUM(C13:I13) -> 0
J14: =SUM(C14:I14) -> 0
J15: =SUM(C15:I15) -> 0
J16: =SUM(C16:I16) -> 0
... J30: =SUM(C30:I30) -> 0
B31: TOTALE | C31: =SUM(C5:C30) -> 0 | D31: =SUM(D5:D30) -> 0 | E31: =SUM(E5:E30) -> 0 | F31: =SUM(F5:F30) -> 0 | G31: =SUM(G5:G30) -> 0 | H31: =SUM(H5:H30) -> 0 | I31: =SUM(I5:I30) -> 0 | J31: =SUM(C31:I31) -> 0

Sheet MAR-Set 3
B2: SETTIMANA 3 | C2: =MARZO!C2 -> MARZO | G2: BUDGET SETTIMANALE | J2: =+MARZO!M19 -> 0
G3: RISPARMIO SETTIMANALE | J3: =+J2-J31 -> 0
B4: CATEGORIA | C4: LUN | D4: MAR | E4: MER | F4: GIO | G4: VEN | H4: SAB | I4: DOM | J4: TOTALE | L4: MEMO
J5: =SUM(C5:I5) -> 0
J6: =SUM(C6:I6) -> 0
J7: =SUM(C7:I7) -> 0
J8: =SUM(C8:I8) -> 0
J9: =SUM(C9:I9) -> 0
J10: =SUM(C10:I10) -> 0
J11: =SUM(C11:I11) -> 0
J12: =SUM(C12:I12) -> 0
J13: =SUM(C13:I13) -> 0
J14: =SUM(C14:I14) -> 0
J15: =SUM(C15:I15) -> 0
J16: =SUM(C16:I16) -> 0
... J30: =SUM(C30:I30) -> 0
B31: TOTALE | C31: =SUM(C5:C30) -> 0 | D31: =SUM(D5:D30) -> 0 | E31: =SUM(E5:E30) -> 0 | F31: =SUM(F5:F30) -> 0 | G31: =SUM(G5:G30) -> 0 | H31: =SUM(H5:H30) -> 0 | I31: =SUM(I5:I30) -> 0 | J31: =SUM(C31:I31) -> 0

Sheet MAR-Set 4
B2: SETTIMANA 4 | C2: =MARZO!C2 -> MARZO | G2: BUDGET SETTIMANALE | J2: =+MARZO!M19 -> 0
G3: RISPARMIO SETTIMANALE | J3: =+J2-J31 -> 0
B4: CATEGORIA | C4: LUN | D4: MAR | E4: MER | F4: GIO | G4: VEN | H4: SAB | I4: DOM | J4: TOTALE | L4: MEMO
J5: =SUM(C5:I5) -> 0
J6: =SUM(C6:I6) -> 0
J7: =SUM(C7:I7) -> 0
J8: =SUM(C8:I8) -> 0
J9: =SUM(C9:I9) -> 0
J10: =SUM(C10:I10) -> 0
J11: =SUM(C11:I11) -> 0
J12: =SUM(C12:I12) -> 0
J13: =SUM(C13:I13) -> 0
J14: =SUM(C14:I14) -> 0
J15: =SUM(C15:I15) -> 0
J16: =SUM(C16:I16) -> 0
... J30: =SUM(C30:I30) -> 0
B31: TOTALE | C31: =SUM(C5:C30) -> 0 | D31: =SUM(D5:D30) -> 0 | E31: =SUM(E5:E30) -> 0 | F31: =SUM(F5:F30) -> 0 | G31: =SUM(G5:G30) -> 0 | H31: =SUM(H5:H30) -> 0 | I31: =SUM(I5:I30) -> 0 | J31: =SUM(C31:I31) -> 0

Sheet MAR-Set 5
B2: SETTIMANA 5 | C2: =MARZO!C2 -> MARZO | G2: BUDGET SETTIMANALE | J2: =IF(MARZO!K19=5,+MARZO!M19,0) -> 0
G3: RISPARMIO SETTIMANALE | J3: =+J2-J31 -> 0
B4: CATEGORIA | C4: LUN | D4: MAR | E4: MER | F4: GIO | G4: VEN | H4: SAB | I4: DOM | J4: TOTALE | L4: MEMO
J5: =SUM(C5:I5) -> 0
J6: =SUM(C6:I6) -> 0
J7: =SUM(C7:I7) -> 0
J8: =SUM(C8:I8) -> 0
J9: =SUM(C9:I9) -> 0
J10: =SUM(C10:I10) -> 0
J11: =SUM(C11:I11) -> 0
J12: =SUM(C12:I12) -> 0
J13: =SUM(C13:I13) -> 0
J14: =SUM(C14:I14) -> 0
J15: =SUM(C15:I15) -> 0
J16: =SUM(C16:I16) -> 0
... J30: =SUM(C30:I30) -> 0
B31: TOTALE | C31: =SUM(C5:C30) -> 0 | D31: =SUM(D5:D30) -> 0 | E31: =SUM(E5:E30) -> 0 | F31: =SUM(F5:F30) -> 0 | G31: =SUM(G5:G30) -> 0 | H31: =SUM(H5:H30) -> 0 | I31: =SUM(I5:I30) -> 0 | J31: =SUM(C31:I31) -> 0

Sheet MAR-REV
B2: REVISIONE | D2: =MARZO!C2 -> MARZO | I2: Hai raggiunto il tuo obiettivo di risparmio mensile?
B4: Quanti soldi potevi spendere questo mese?
B5: =+MARZO!I16 -> 0
B7: Quanto volevi spendere?
B8: =+MARZO!M16 -> 0
B10: Quanto hai speso? | I10: Che sistemi hai trovato per risparmiare?
B11: =+'MAR-Set 1'!J31+'MAR-Set 2'!J31+'MAR-Set 3'!J31+'MAR-Set 4'!J31+'MAR-Set 5'!J31 -> 0
B13: Quanto risparmi questo mese?
B14: =+B5-B11 -> 0
F16: =+B14-MARZO!K5 -> 0
I18: Quali sono le categorie in cui spendi troppo?
I26: Cosa cambierai il prossimo mese?

Sheet APRILE
B2: MESE | C2: APRILE
B4: Quanti soldi ti entrano? | I4: Quanto vuoi risparmiare?
B5: DATA | C5: FONTE | F5: IMPORTO | I5: TOTALE (D)
I7: Per cosa?
C12: TOTALE (A) | F12: =SUM(F6:F11) -> 0
B14: Quanti soldi devono uscire? | I14: Quanto dovresti spendere?
B15: DATA | C15: CATEGORIA | F15: IMPORTO | I15: TOTALE (C) | K15: TOTALE (D) | M15: TOTALE (E)
I16: =+F30 -> 0 | K16: =+K5 -> 0 | M16: =+I16-K16 -> 0
I18: TOTALE (E) | K18: SETTIMANE | M18: TOTALE (E)
I19: =+M16 -> 0 | K19: 1 | M19: =+I19/K19 -> 0
I21: NOTE
C26: TOTALE (B) | F26: =SUM(F16:F25) -> 0
B28: Quanti soldi ti restano?
B29: TOTALE (A) | D29: TOTALE (B) | F29: TOTALE (C)
B30: =+F12 -> 0 | D30: =+F26 -> 0 | F30: =+B30-D30 -> 0

Sheet APR-Set 1
B2: SETTIMANA 1 | C2: =APRILE!C2 -> APRILE | G2: BUDGET SETTIMANALE | J2: =+APRILE!M19 -> 0
G3: RISPARMIO SETTIMANALE | J3: =+J2-J31 -> 0
B4: CATEGORIA | C4: LUN | D4: MAR | E4: MER | F4: GIO | G4: VEN | H4: SAB | I4: DOM | J4: TOTALE | L4: MEMO
J5: =SUM(C5:I5) -> 0 | L5: I granchi scavano buche in base alla dimensione del loro guscio
J6: =SUM(C6:I6) -> 0
J7: =SUM(C7:I7) -> 0
J8: =SUM(C8:I8) -> 0
J9: =SUM(C9:I9) -> 0
J10: =SUM(C10:I10) -> 0
J11: =SUM(C11:I11) -> 0
J12: =SUM(C12:I12) -> 0
J13: =SUM(C13:I13) -> 0
J14: =SUM(C14:I14) -> 0
J15: =SUM(C15:I15) -> 0
J16: =SUM(C16:I16) -> 0
J17: =SUM(C17:I17) -> 0
... J30: =SUM(C30:I30) -> 0
B31: TOTALE | C31: =SUM(C5:C30) -> 0 | D31: =SUM(D5:D30) -> 0 | E31: =SUM(E5:E30) -> 0 | F31: =SUM(F5:F30) -> 0 | G31: =SUM(G5:G30) -> 0 | H31: =SUM(H5:H30) -> 0 | I31: =SUM(I5:I30) -> 0 | J31: =SUM(C31:I31) -> 0

Sheet APR-Set 2
B2: SETTIMANA 2 | C2: =APRILE!C2 -> APRILE | G2: BUDGET SETTIMANALE | J2: =+APRILE!M19 -> 0
G3: RISPARMIO SETTIMANALE | J3: =+J2-J31 -> 0
B4: CATEGORIA | C4: LUN | D4: MAR | E4: MER | F4: GIO | G4: VEN | H4: SAB | I4: DOM | J4: TOTALE | L4: MEMO
J5: =SUM(C5:I5) -> 0
J6: =SUM(C6:I6) -> 0
J7: =SUM(C7:I7) -> 0
J8: =SUM(C8:I8) -> 0
J9: =SUM(C9:I9) -> 0
J10: =SUM(C10:I10) -> 0
J11: =SUM(C11:I11) -> 0
J12: =SUM(C12:I12) -> 0
J13: =SUM(C13:I13) -> 0
J14: =SUM(C14:I14) -> 0
J15: =SUM(C15:I15) -> 0
J16: =SUM(C16:I16) -> 0
... J30: =SUM(C30:I30) -> 0
B31: TOTALE | C31: =SUM(C5:C30) -> 0 | D31: =SUM(D5:D30) -> 0 | E31: =SUM(E5:E30) -> 0 | F31: =SUM(F5:F30) -> 0 | G31: =SUM(G5:G30) -> 0 | H31: =SUM(H5:H30) -> 0 | I31: =SUM(I5:I30) -> 0 | J31: =SUM(C31:I31) -> 0

Sheet APR-Set 3
B2: SETTIMANA 3 | C2: =APRILE!C2 -> APRILE | G2: BUDGET SETTIMANALE | J2: =+APRILE!M19 -> 0
G3: RISPARMIO SETTIMANALE | J3: =+J2-J31 -> 0
B4: CATEGORIA | C4: LUN | D4: MAR | E4: MER | F4: GIO | G4: VEN | H4: SAB | I4: DOM | J4: TOTALE | L4: MEMO
J5: =SUM(C5:I5) -> 0
J6: =SUM(C6:I6) -> 0
J7: =SUM(C7:I7) -> 0
J8: =SUM(C8:I8) -> 0
J9: =SUM(C9:I9) -> 0
J10: =SUM(C10:I10) -> 0
J11: =SUM(C11:I11) -> 0
J12: =SUM(C12:I12) -> 0
J13: =SUM(C13:I13) -> 0
J14: =SUM(C14:I14) -> 0
J15: =SUM(C15:I15) -> 0
J16: =SUM(C16:I16) -> 0
... J30: =SUM(C30:I30) -> 0
B31: TOTALE | C31: =SUM(C5:C30) -> 0 | D31: =SUM(D5:D30) -> 0 | E31: =SUM(E5:E30) -> 0 | F31: =SUM(F5:F30) -> 0 | G31: =SUM(G5:G30) -> 0 | H31: =SUM(H5:H30) -> 0 | I31: =SUM(I5:I30) -> 0 | J31: =SUM(C31:I31) -> 0

Sheet APR-Set 4
B2: SETTIMANA 4 | C2: =APRILE!C2 -> APRILE | G2: BUDGET SETTIMANALE | J2: =+APRILE!M19 -> 0
G3: RISPARMIO SETTIMANALE | J3: =+J2-J31 -> 0
B4: CATEGORIA | C4: LUN | D4: MAR | E4: MER | F4: GIO | G4: VEN | H4: SAB | I4: DOM | J4: TOTALE | L4: MEMO
J5: =SUM(C5:I5) -> 0
J6: =SUM(C6:I6) -> 0
J7: =SUM(C7:I7) -> 0
J8: =SUM(C8:I8) -> 0
J9: =SUM(C9:I9) -> 0
J10: =SUM(C10:I10) -> 0
J11: =SUM(C11:I11) -> 0
J12: =SUM(C12:I12) -> 0
J13: =SUM(C13:I13) -> 0
J14: =SUM(C14:I14) -> 0
J15: =SUM(C15:I15) -> 0
J16: =SUM(C16:I16) -> 0
... J30: =SUM(C30:I30) -> 0
B31: TOTALE | C31: =SUM(C5:C30) -> 0 | D31: =SUM(D5:D30) -> 0 | E31: =SUM(E5:E30) -> 0 | F31: =SUM(F5:F30) -> 0 | G31: =SUM(G5:G30) -> 0 | H31: =SUM(H5:H30) -> 0 | I31: =SUM(I5:I30) -> 0 | J31: =SUM(C31:I31) -> 0

Sheet APR-Set 5
B2: SETTIMANA 5 | C2: =APRILE!C2 -> APRILE | G2: BUDGET SETTIMANALE | J2: =IF(APRILE!K19=5,+APRILE!M19,0) -> 0
G3: RISPARMIO SETTIMANALE | J3: =+J2-J31 -> 0
B4: CATEGORIA | C4: LUN | D4: MAR | E4: MER | F4: GIO | G4: VEN | H4: SAB | I4: DOM | J4: TOTALE | L4: MEMO
J5: =SUM(C5:I5) -> 0
J6: =SUM(C6:I6) -> 0
J7: =SUM(C7:I7) -> 0
J8: =SUM(C8:I8) -> 0
J9: =SUM(C9:I9) -> 0
J10: =SUM(C10:I10) -> 0
J11: =SUM(C11:I11) -> 0
J12: =SUM(C12:I12) -> 0
J13: =SUM(C13:I13) -> 0
J14: =SUM(C14:I14) -> 0
J15: =SUM(C15:I15) -> 0
J16: =SUM(C16:I16) -> 0
... J30: =SUM(C30:I30) -> 0
B31: TOTALE | C31: =SUM(C5:C30) -> 0 | D31: =SUM(D5:D30) -> 0 | E31: =SUM(E5:E30) -> 0 | F31: =SUM(F5:F30) -> 0 | G31: =SUM(G5:G30) -> 0 | H31: =SUM(H5:H30) -> 0 | I31: =SUM(I5:I30) -> 0 | J31: =SUM(C31:I31) -> 0

Sheet APR-REV
B2: REVISIONE | D2: =APRILE!C2 -> APRILE | I2: Hai raggiunto il tuo obiettivo di risparmio mensile?
B4: Quanti soldi potevi spendere questo mese?
B5: =+APRILE!I16 -> 0
B7: Quanto volevi spendere?
B8: =+APRILE!M16 -> 0
B10: Quanto hai speso? | I10: Che sistemi hai trovato per risparmiare?
B11: =+'APR-Set 1'!J31+'APR-Set 2'!J31+'APR-Set 3'!J31+'APR-Set 4'!J31+'APR-Set 5'!J31 -> 0
B13: Quanto risparmi questo mese?
B14: =+B5-B11 -> 0
F16: =+B14-APRILE!K5 -> 0
I18: Quali sono le categorie in cui spendi troppo?
I26: Cosa cambierai il prossimo mese?

Sheet MAGGIO
B2: MESE | C2: MAGGIO
B4: Quanti soldi ti entrano? | I4: Quanto vuoi risparmiare?
B5: DATA | C5: FONTE | F5: IMPORTO | I5: TOTALE (D)
I7: Per cosa?
C12: TOTALE (A) | F12: =SUM(F6:F11) -> 0
B14: Quanti soldi devono uscire? | I14: Quanto dovresti spendere?
B15: DATA | C15: CATEGORIA | F15: IMPORTO | I15: TOTALE (C) | K15: TOTALE (D) | M15: TOTALE (E)
I16: =+F30 -> 0 | K16: =+K5 -> 0 | M16: =+I16-K16 -> 0
I18: TOTALE (E) | K18: SETTIMANE | M18: TOTALE (E)
I19: =+M16 -> 0 | K19: 1 | M19: =+I19/K19 -> 0
I21: NOTE
C26: TOTALE (B) | F26: =SUM(F16:F25) -> 0
B28: Quanti soldi ti restano?
B29: TOTALE (A) | D29: TOTALE (B) | F29: TOTALE (C)
B30: =+F12 -> 0 | D30: =+F26 -> 0 | F30: =+B30-D30 -> 0

Sheet MAG-Set 1
B2: SETTIMANA 1 | C2: =MAGGIO!C2 -> MAGGIO | G2: BUDGET SETTIMANALE | J2: =+MAGGIO!M19 -> 0
G3: RISPARMIO SETTIMANALE | J3: =+J2-J31 -> 0
B4: CATEGORIA | C4: LUN | D4: MAR | E4: MER | F4: GIO | G4: VEN | H4: SAB | I4: DOM | J4: TOTALE | L4: MEMO
J5: =SUM(C5:I5) -> 0 | L5: Perfino un cumulo di polvere può diventare una montagna
J6: =SUM(C6:I6) -> 0
J7: =SUM(C7:I7) -> 0
J8: =SUM(C8:I8) -> 0
J9: =SUM(C9:I9) -> 0
J10: =SUM(C10:I10) -> 0
J11: =SUM(C11:I11) -> 0
J12: =SUM(C12:I12) -> 0
J13: =SUM(C13:I13) -> 0
J14: =SUM(C14:I14) -> 0
J15: =SUM(C15:I15) -> 0
J16: =SUM(C16:I16) -> 0
J17: =SUM(C17:I17) -> 0
... J30: =SUM(C30:I30) -> 0
B31: TOTALE | C31: =SUM(C5:C30) -> 0 | D31: =SUM(D5:D30) -> 0 | E31: =SUM(E5:E30) -> 0 | F31: =SUM(F5:F30) -> 0 | G31: =SUM(G5:G30) -> 0 | H31: =SUM(H5:H30) -> 0 | I31: =SUM(I5:I30) -> 0 | J31: =SUM(C31:I31) -> 0

Sheet MAG-Set 2
B2: SETTIMANA 2 | C2: =MAGGIO!C2 -> MAGGIO | G2: BUDGET SETTIMANALE | J2: =+MAGGIO!M19 -> 0
G3: RISPARMIO SETTIMANALE | J3: =+J2-J31 -> 0
B4: CATEGORIA | C4: LUN | D4: MAR | E4: MER | F4: GIO | G4: VEN | H4: SAB | I4: DOM | J4: TOTALE | L4: MEMO
J5: =SUM(C5:I5) -> 0
J6: =SUM(C6:I6) -> 0
J7: =SUM(C7:I7) -> 0
J8: =SUM(C8:I8) -> 0
J9: =SUM(C9:I9) -> 0
J10: =SUM(C10:I10) -> 0
J11: =SUM(C11:I11) -> 0
J12: =SUM(C12:I12) -> 0
J13: =SUM(C13:I13) -> 0
J14: =SUM(C14:I14) -> 0
J15: =SUM(C15:I15) -> 0
J16: =SUM(C16:I16) -> 0
... J30: =SUM(C30:I30) -> 0
B31: TOTALE | C31: =SUM(C5:C30) -> 0 | D31: =SUM(D5:D30) -> 0 | E31: =SUM(E5:E30) -> 0 | F31: =SUM(F5:F30) -> 0 | G31: =SUM(G5:G30) -> 0 | H31: =SUM(H5:H30) -> 0 | I31: =SUM(I5:I30) -> 0 | J31: =SUM(C31:I31) -> 0

Sheet MAG-Set 3
B2: SETTIMANA 3 | C2: =MAGGIO!C2 -> MAGGIO | G2: BUDGET SETTIMANALE | J2: =+MAGGIO!M19 -> 0
G3: RISPARMIO SETTIMANALE | J3: =+J2-J31 -> 0
B4: CATEGORIA | C4: LUN | D4: MAR | E4: MER | F4: GIO | G4: VEN | H4: SAB | I4: DOM | J4: TOTALE | L4: MEMO
J5: =SUM(C5:I5) -> 0
J6: =SUM(C6:I6) -> 0
J7: =SUM(C7:I7) -> 0
J8: =SUM(C8:I8) -> 0
J9: =SUM(C9:I9) -> 0
J10: =SUM(C10:I10) -> 0
J11: =SUM(C11:I11) -> 0
J12: =SUM(C12:I12) -> 0
J13: =SUM(C13:I13) -> 0
J14: =SUM(C14:I14) -> 0
J15: =SUM(C15:I15) -> 0
J16: =SUM(C16:I16) -> 0
... J30: =SUM(C30:I30) -> 0
B31: TOTALE | C31: =SUM(C5:C30) -> 0 | D31: =SUM(D5:D30) -> 0 | E31: =SUM(E5:E30) -> 0 | F31: =SUM(F5:F30) -> 0 | G31: =SUM(G5:G30) -> 0 | H31: =SUM(H5:H30) -> 0 | I31: =SUM(I5:I30) -> 0 | J31: =SUM(C31:I31) -> 0

Sheet MAG-Set 4
B2: SETTIMANA 4 | C2: =MAGGIO!C2 -> MAGGIO | G2: BUDGET SETTIMANALE | J2: =+MAGGIO!M19 -> 0
G3: RISPARMIO SETTIMANALE | J3: =+J2-J31 -> 0
B4: CATEGORIA | C4: LUN | D4: MAR | E4: MER | F4: GIO | G4: VEN | H4: SAB | I4: DOM | J4: TOTALE | L4: MEMO
J5: =SUM(C5:I5) -> 0
J6: =SUM(C6:I6) -> 0
J7: =SUM(C7:I7) -> 0
J8: =SUM(C8:I8) -> 0
J9: =SUM(C9:I9) -> 0
J10: =SUM(C10:I10) -> 0
J11: =SUM(C11:I11) -> 0
J12: =SUM(C12:I12) -> 0
J13: =SUM(C13:I13) -> 0
J14: =SUM(C14:I14) -> 0
J15: =SUM(C15:I15) -> 0
J16: =SUM(C16:I16) -> 0
... J30: =SUM(C30:I30) -> 0
B31: TOTALE | C31: =SUM(C5:C30) -> 0 | D31: =SUM(D5:D30) -> 0 | E31: =SUM(E5:E30) -> 0 | F31: =SUM(F5:F30) -> 0 | G31: =SUM(G5:G30) -> 0 | H31: =SUM(H5:H30) -> 0 | I31: =SUM(I5:I30) -> 0 | J31: =SUM(C31:I31) -> 0

Sheet MAG-Set 5
B2: SETTIMANA 5 | C2: =MAGGIO!C2 -> MAGGIO | G2: BUDGET SETTIMANALE | J2: =IF(MAGGIO!K19=5,+MAGGIO!M19,0) -> 0
G3: RISPARMIO SETTIMANALE | J3: =+J2-J31 -> 0
B4: CATEGORIA | C4: LUN | D4: MAR | E4: MER | F4: GIO | G4: VEN | H4: SAB | I4: DOM | J4: TOTALE | L4: MEMO
J5: =SUM(C5:I5) -> 0
J6: =SUM(C6:I6) -> 0
J7: =SUM(C7:I7) -> 0
J8: =SUM(C8:I8) -> 0
J9: =SUM(C9:I9) -> 0
J10: =SUM(C10:I10) -> 0
J11: =SUM(C11:I11) -> 0
J12: =SUM(C12:I12) -> 0
J13: =SUM(C13:I13) -> 0
J14: =SUM(C14:I14) -> 0
J15: =SUM(C15:I15) -> 0
J16: =SUM(C16:I16) -> 0
... J30: =SUM(C30:I30) -> 0
B31: TOTALE | C31: =SUM(C5:C30) -> 0 | D31: =SUM(D5:D30) -> 0 | E31: =SUM(E5:E30) -> 0 | F31: =SUM(F5:F30) -> 0 | G31: =SUM(G5:G30) -> 0 | H31: =SUM(H5:H30) -> 0 | I31: =SUM(I5:I30) -> 0 | J31: =SUM(C31:I31) -> 0

Sheet MAG-REV
B2: REVISIONE | D2: =MAGGIO!C2 -> MAGGIO | I2: Hai raggiunto il tuo obiettivo di risparmio mensile?
B4: Quanti soldi potevi spendere questo mese?
B5: =+MAGGIO!I16 -> 0
B7: Quanto volevi spendere?
B8: =+MAGGIO!M16 -> 0
B10: Quanto hai speso? | I10: Che sistemi hai trovato per risparmiare?
B11: =+'MAG-Set 1'!J31+'MAG-Set 2'!J31+'MAG-Set 3'!J31+'MAG-Set 4'!J31+'MAG-Set 5'!J31 -> 0
B13: Quanto risparmi questo mese?
B14: =+B5-B11 -> 0
F16: =+B14-MAGGIO!K5 -> 0
I18: Quali sono le categorie in cui spendi troppo?
I26: Cosa cambierai il prossimo mese?

Sheet GIUGNO
B2: MESE | C2: GIUGNO
B4: Quanti soldi ti entrano? | I4: Quanto vuoi risparmiare?
B5: DATA | C5: FONTE | F5: IMPORTO | I5: TOTALE (D)
I7: Per cosa?
C12: TOTALE (A) | F12: =SUM(F6:F11) -> 0
B14: Quanti soldi devono uscire? | I14: Quanto dovresti spendere?
B15: DATA | C15: CATEGORIA | F15: IMPORTO | I15: TOTALE (C) | K15: TOTALE (D) | M15: TOTALE (E)
I16: =+F30 -> 0 | K16: =+K5 -> 0 | M16: =+I16-K16 -> 0
I18: TOTALE (E) | K18: SETTIMANE | M18: TOTALE (E)
I19: =+M16 -> 0 | K19: 1 | M19: =+I19/K19 -> 0
I21: NOTE
C26: TOTALE (B) | F26: =SUM(F16:F25) -> 0
B28: Quanti soldi ti restano?
B29: TOTALE (A) | D29: TOTALE (B) | F29: TOTALE (C)
B30: =+F12 -> 0 | D30: =+F26 -> 0 | F30: =+B30-D30 -> 0

Sheet GIU-Set 1
B2: SETTIMANA 1 | C2: =GIUGNO!C2 -> GIUGNO | G2: BUDGET SETTIMANALE | J2: =+GIUGNO!M19 -> 0
G3: RISPARMIO SETTIMANALE | J3: =+J2-J31 -> 0
B4: CATEGORIA | C4: LUN | D4: MAR | E4: MER | F4: GIO | G4: VEN | H4: SAB | I4: DOM | J4: TOTALE | L4: MEMO
J5: =SUM(C5:I5) -> 0 | L5: La ruggine nasce dentro il corpo
J6: =SUM(C6:I6) -> 0
J7: =SUM(C7:I7) -> 0
J8: =SUM(C8:I8) -> 0
J9: =SUM(C9:I9) -> 0
J10: =SUM(C10:I10) -> 0
J11: =SUM(C11:I11) -> 0
J12: =SUM(C12:I12) -> 0
J13: =SUM(C13:I13) -> 0
J14: =SUM(C14:I14) -> 0
J15: =SUM(C15:I15) -> 0
J16: =SUM(C16:I16) -> 0
J17: =SUM(C17:I17) -> 0
... J30: =SUM(C30:I30) -> 0
B31: TOTALE | C31: =SUM(C5:C30) -> 0 | D31: =SUM(D5:D30) -> 0 | E31: =SUM(E5:E30) -> 0 | F31: =SUM(F5:F30) -> 0 | G31: =SUM(G5:G30) -> 0 | H31: =SUM(H5:H30) -> 0 | I31: =SUM(I5:I30) -> 0 | J31: =SUM(C31:I31) -> 0

Sheet GIU-Set 2
B2: SETTIMANA 2 | C2: =GIUGNO!C2 -> GIUGNO | G2: BUDGET SETTIMANALE | J2: =+GIUGNO!M19 -> 0
G3: RISPARMIO SETTIMANALE | J3: =+J2-J31 -> 0
B4: CATEGORIA | C4: LUN | D4: MAR | E4: MER | F4: GIO | G4: VEN | H4: SAB | I4: DOM | J4: TOTALE | L4: MEMO
J5: =SUM(C5:I5) -> 0
J6: =SUM(C6:I6) -> 0
J7: =SUM(C7:I7) -> 0
J8: =SUM(C8:I8) -> 0
J9: =SUM(C9:I9) -> 0
J10: =SUM(C10:I10) -> 0
J11: =SUM(C11:I11) -> 0
J12: =SUM(C12:I12) -> 0
J13: =SUM(C13:I13) -> 0
J14: =SUM(C14:I14) -> 0
J15: =SUM(C15:I15) -> 0
J16: =SUM(C16:I16) -> 0
... J30: =SUM(C30:I30) -> 0
B31: TOTALE | C31: =SUM(C5:C30) -> 0 | D31: =SUM(D5:D30) -> 0 | E31: =SUM(E5:E30) -> 0 | F31: =SUM(F5:F30) -> 0 | G31: =SUM(G5:G30) -> 0 | H31: =SUM(H5:H30) -> 0 | I31: =SUM(I5:I30) -> 0 | J31: =SUM(C31:I31) -> 0

Sheet GIU-Set 3
B2: SETTIMANA 3 | C2: =GIUGNO!C2 -> GIUGNO | G2: BUDGET SETTIMANALE | J2: =+GIUGNO!M19 -> 0
G3: RISPARMIO SETTIMANALE | J3: =+J2-J31 -> 0
B4: CATEGORIA | C4: LUN | D4: MAR | E4: MER | F4: GIO | G4: VEN | H4: SAB | I4: DOM | J4: TOTALE | L4: MEMO
J5: =SUM(C5:I5) -> 0
J6: =SUM(C6:I6) -> 0
J7: =SUM(C7:I7) -> 0
J8: =SUM(C8:I8) -> 0
J9: =SUM(C9:I9) -> 0
J10: =SUM(C10:I10) -> 0
J11: =SUM(C11:I11) -> 0
J12: =SUM(C12:I12) -> 0
J13: =SUM(C13:I13) -> 0
J14: =SUM(C14:I14) -> 0
J15: =SUM(C15:I15) -> 0
J16: =SUM(C16:I16) -> 0
... J30: =SUM(C30:I30) -> 0
B31: TOTALE | C31: =SUM(C5:C30) -> 0 | D31: =SUM(D5:D30) -> 0 | E31: =SUM(E5:E30) -> 0 | F31: =SUM(F5:F30) -> 0 | G31: =SUM(G5:G30) -> 0 | H31: =SUM(H5:H30) -> 0 | I31: =SUM(I5:I30) -> 0 | J31: =SUM(C31:I31) -> 0

Sheet GIU-Set 4
B2: SETTIMANA 4 | C2: =GIUGNO!C2 -> GIUGNO | G2: BUDGET SETTIMANALE | J2: =+GIUGNO!M19 -> 0
G3: RISPARMIO SETTIMANALE | J3: =+J2-J31 -> 0
B4: CATEGORIA | C4: LUN | D4: MAR | E4: MER | F4: GIO | G4: VEN | H4: SAB | I4: DOM | J4: TOTALE | L4: MEMO
J5: =SUM(C5:I5) -> 0
J6: =SUM(C6:I6) -> 0
J7: =SUM(C7:I7) -> 0
J8: =SUM(C8:I8) -> 0
J9: =SUM(C9:I9) -> 0
J10: =SUM(C10:I10) -> 0
J11: =SUM(C11:I11) -> 0
J12: =SUM(C12:I12) -> 0
J13: =SUM(C13:I13) -> 0
J14: =SUM(C14:I14) -> 0
J15: =SUM(C15:I15) -> 0
J16: =SUM(C16:I16) -> 0
... J30: =SUM(C30:I30) -> 0
B31: TOTALE | C31: =SUM(C5:C30) -> 0 | D31: =SUM(D5:D30) -> 0 | E31: =SUM(E5:E30) -> 0 | F31: =SUM(F5:F30) -> 0 | G31: =SUM(G5:G30) -> 0 | H31: =SUM(H5:H30) -> 0 | I31: =SUM(I5:I30) -> 0 | J31: =SUM(C31:I31) -> 0

Sheet GIU-Set 5
B2: SETTIMANA 5 | C2: =GIUGNO!C2 -> GIUGNO | G2: BUDGET SETTIMANALE | J2: =IF(GIUGNO!K19=5,+GIUGNO!M19,0) -> 0
G3: RISPARMIO SETTIMANALE | J3: =+J2-J31 -> 0
B4: CATEGORIA | C4: LUN | D4: MAR | E4: MER | F4: GIO | G4: VEN | H4: SAB | I4: DOM | J4: TOTALE | L4: MEMO
J5: =SUM(C5:I5) -> 0
J6: =SUM(C6:I6) -> 0
J7: =SUM(C7:I7) -> 0
J8: =SUM(C8:I8) -> 0
J9: =SUM(C9:I9) -> 0
J10: =SUM(C10:I10) -> 0
J11: =SUM(C11:I11) -> 0
J12: =SUM(C12:I12) -> 0
J13: =SUM(C13:I13) -> 0
J14: =SUM(C14:I14) -> 0
J15: =SUM(C15:I15) -> 0
J16: =SUM(C16:I16) -> 0
... J30: =SUM(C30:I30) -> 0
B31: TOTALE | C31: =SUM(C5:C30) -> 0 | D31: =SUM(D5:D30) -> 0 | E31: =SUM(E5:E30) -> 0 | F31: =SUM(F5:F30) -> 0 | G31: =SUM(G5:G30) -> 0 | H31: =SUM(H5:H30) -> 0 | I31: =SUM(I5:I30) -> 0 | J31: =SUM(C31:I31) -> 0

Sheet GIU-REV
B2: REVISIONE | D2: =GIUGNO!C2 -> GIUGNO | I2: Hai raggiunto il tuo obiettivo di risparmio mensile?
B4: Quanti soldi potevi spendere questo mese?
B5: =+GIUGNO!I16 -> 0
B7: Quanto volevi spendere?
B8: =+GIUGNO!M16 -> 0
B10: Quanto hai speso? | I10: Che sistemi hai trovato per risparmiare?
B11: =+'GIU-Set 1'!J31+'GIU-Set 2'!J31+'GIU-Set 3'!J31+'GIU-Set 4'!J31+'GIU-Set 5'!J31 -> 0
B13: Quanto risparmi questo mese?
B14: =+B5-B11 -> 0
F16: =+B14-GIUGNO!K5 -> 0
I18: Quali sono le categorie in cui spendi troppo?
I26: Cosa cambierai il prossimo mese?

Sheet LUGLIO
B2: MESE | C2: LUGLIO
B4: Quanti soldi ti entrano? | I4: Quanto vuoi risparmiare?
B5: DATA | C5: FONTE | F5: IMPORTO | I5: TOTALE (D)
I7: Per cosa?
C12: TOTALE (A) | F12: =SUM(F6:F11) -> 0
B14: Quanti soldi devono uscire? | I14: Quanto dovresti spendere?
B15: DATA | C15: CATEGORIA | F15: IMPORTO | I15: TOTALE (C) | K15: TOTALE (D) | M15: TOTALE (E)
I16: =+F30 -> 0 | K16: =+K5 -> 0 | M16: =+I16-K16 -> 0
I18: TOTALE (E) | K18: SETTIMANE | M18: TOTALE (E)
I19: =+M16 -> 0 | K19: 1 | M19: =+I19/K19 -> 0
I21: NOTE
C26: TOTALE (B) | F26: =SUM(F16:F25) -> 0
B28: Quanti soldi ti restano?
B29: TOTALE (A) | D29: TOTALE (B) | F29: TOTALE (C)
B30: =+F12 -> 0 | D30: =+F26 -> 0 | F30: =+B30-D30 -> 0

Sheet LUG-Set 1
B2: SETTIMANA 1 | C2: =LUGLIO!C2 -> LUGLIO | G2: BUDGET SETTIMANALE | J2: =+LUGLIO!M19 -> 0
G3: RISPARMIO SETTIMANALE | J3: =+J2-J31 -> 0
B4: CATEGORIA | C4: LUN | D4: MAR | E4: MER | F4: GIO | G4: VEN | H4: SAB | I4: DOM | J4: TOTALE | L4: MEMO
J5: =SUM(C5:I5) -> 0 | L5: Cadere sette volte, rialzarsi otto
J6: =SUM(C6:I6) -> 0
J7: =SUM(C7:I7) -> 0
J8: =SUM(C8:I8) -> 0
J9: =SUM(C9:I9) -> 0
J10: =SUM(C10:I10) -> 0
J11: =SUM(C11:I11) -> 0
J12: =SUM(C12:I12) -> 0
J13: =SUM(C13:I13) -> 0
J14: =SUM(C14:I14) -> 0
J15: =SUM(C15:I15) -> 0
J16: =SUM(C16:I16) -> 0
J17: =SUM(C17:I17) -> 0
... J30: =SUM(C30:I30) -> 0
B31: TOTALE | C31: =SUM(C5:C30) -> 0 | D31: =SUM(D5:D30) -> 0 | E31: =SUM(E5:E30) -> 0 | F31: =SUM(F5:F30) -> 0 | G31: =SUM(G5:G30) -> 0 | H31: =SUM(H5:H30) -> 0 | I31: =SUM(I5:I30) -> 0 | J31: =SUM(C31:I31) -> 0

Sheet LUG-Set 2
B2: SETTIMANA 2 | C2: =LUGLIO!C2 -> LUGLIO | G2: BUDGET SETTIMANALE | J2: =+LUGLIO!M19 -> 0
G3: RISPARMIO SETTIMANALE | J3: =+J2-J31 -> 0
B4: CATEGORIA | C4: LUN | D4: MAR | E4: MER | F4: GIO | G4: VEN | H4: SAB | I4: DOM | J4: TOTALE | L4: MEMO
J5: =SUM(C5:I5) -> 0
J6: =SUM(C6:I6) -> 0
J7: =SUM(C7:I7) -> 0
J8: =SUM(C8:I8) -> 0
J9: =SUM(C9:I9) -> 0
J10: =SUM(C10:I10) -> 0
J11: =SUM(C11:I11) -> 0
J12: =SUM(C12:I12) -> 0
J13: =SUM(C13:I13) -> 0
J14: =SUM(C14:I14) -> 0
J15: =SUM(C15:I15) -> 0
J16: =SUM(C16:I16) -> 0
... J30: =SUM(C30:I30) -> 0
B31: TOTALE | C31: =SUM(C5:C30) -> 0 | D31: =SUM(D5:D30) -> 0 | E31: =SUM(E5:E30) -> 0 | F31: =SUM(F5:F30) -> 0 | G31: =SUM(G5:G30) -> 0 | H31: =SUM(H5:H30) -> 0 | I31: =SUM(I5:I30) -> 0 | J31: =SUM(C31:I31) -> 0

Sheet LUG-Set 3
B2: SETTIMANA 3 | C2: =LUGLIO!C2 -> LUGLIO | G2: BUDGET SETTIMANALE | J2: =+LUGLIO!M19 -> 0
G3: RISPARMIO SETTIMANALE | J3: =+J2-J31 -> 0
B4: CATEGORIA | C4: LUN | D4: MAR | E4: MER | F4: GIO | G4: VEN | H4: SAB | I4: DOM | J4: TOTALE | L4: MEMO
J5: =SUM(C5:I5) -> 0
J6: =SUM(C6:I6) -> 0
J7: =SUM(C7:I7) -> 0
J8: =SUM(C8:I8) -> 0
J9: =SUM(C9:I9) -> 0
J10: =SUM(C10:I10) -> 0
J11: =SUM(C11:I11) -> 0
J12: =SUM(C12:I12) -> 0
J13: =SUM(C13:I13) -> 0
J14: =SUM(C14:I14) -> 0
J15: =SUM(C15:I15) -> 0
J16: =SUM(C16:I16) -> 0
... J30: =SUM(C30:I30) -> 0
B31: TOTALE | C31: =SUM(C5:C30) -> 0 | D31: =SUM(D5:D30) -> 0 | E31: =SUM(E5:E30) -> 0 | F31: =SUM(F5:F30) -> 0 | G31: =SUM(G5:G30) -> 0 | H31: =SUM(H5:H30) -> 0 | I31: =SUM(I5:I30) -> 0 | J31: =SUM(C31:I31) -> 0

Sheet LUG-Set 4
B2: SETTIMANA 4 | C2: =LUGLIO!C2 -> LUGLIO | G2: BUDGET SETTIMANALE | J2: =+LUGLIO!M19 -> 0
G3: RISPARMIO SETTIMANALE | J3: =+J2-J31 -> 0
B4: CATEGORIA | C4: LUN | D4: MAR | E4: MER | F4: GIO | G4: VEN | H4: SAB | I4: DOM | J4: TOTALE | L4: MEMO
J5: =SUM(C5:I5) -> 0
J6: =SUM(C6:I6) -> 0
J7: =SUM(C7:I7) -> 0
J8: =SUM(C8:I8) -> 0
J9: =SUM(C9:I9) -> 0
J10: =SUM(C10:I10) -> 0
J11: =SUM(C11:I11) -> 0
J12: =SUM(C12:I12) -> 0
J13: =SUM(C13:I13) -> 0
J14: =SUM(C14:I14) -> 0
J15: =SUM(C15:I15) -> 0
J16: =SUM(C16:I16) -> 0
... J30: =SUM(C30:I30) -> 0
B31: TOTALE | C31: =SUM(C5:C30) -> 0 | D31: =SUM(D5:D30) -> 0 | E31: =SUM(E5:E30) -> 0 | F31: =SUM(F5:F30) -> 0 | G31: =SUM(G5:G30) -> 0 | H31: =SUM(H5:H30) -> 0 | I31: =SUM(I5:I30) -> 0 | J31: =SUM(C31:I31) -> 0

Sheet LUG-Set 5
B2: SETTIMANA 5 | C2: =LUGLIO!C2 -> LUGLIO | G2: BUDGET SETTIMANALE | J2: =IF(LUGLIO!K19=5,+LUGLIO!M19,0) -> 0
G3: RISPARMIO SETTIMANALE | J3: =+J2-J31 -> 0
B4: CATEGORIA | C4: LUN | D4: MAR | E4: MER | F4: GIO | G4: VEN | H4: SAB | I4: DOM | J4: TOTALE | L4: MEMO
J5: =SUM(C5:I5) -> 0
J6: =SUM(C6:I6) -> 0
J7: =SUM(C7:I7) -> 0
J8: =SUM(C8:I8) -> 0
J9: =SUM(C9:I9) -> 0
J10: =SUM(C10:I10) -> 0
J11: =SUM(C11:I11) -> 0
J12: =SUM(C12:I12) -> 0
J13: =SUM(C13:I13) -> 0
J14: =SUM(C14:I14) -> 0
J15: =SUM(C15:I15) -> 0
J16: =SUM(C16:I16) -> 0
... J30: =SUM(C30:I30) -> 0
B31: TOTALE | C31: =SUM(C5:C30) -> 0 | D31: =SUM(D5:D30) -> 0 | E31: =SUM(E5:E30) -> 0 | F31: =SUM(F5:F30) -> 0 | G31: =SUM(G5:G30) -> 0 | H31: =SUM(H5:H30) -> 0 | I31: =SUM(I5:I30) -> 0 | J31: =SUM(C31:I31) -> 0

Sheet LUG-REV
B2: REVISIONE | D2: =LUGLIO!C2 -> LUGLIO | I2: Hai raggiunto il tuo obiettivo di risparmio mensile?
B4: Quanti soldi potevi spendere questo mese?
B5: =+LUGLIO!I16 -> 0
B7: Quanto volevi spendere?
B8: =+LUGLIO!M16 -> 0
B10: Quanto hai speso? | I10: Che sistemi hai trovato per risparmiare?
B11: =+'LUG-Set 1'!J31+'LUG-Set 2'!J31+'LUG-Set 3'!J31+'LUG-Set 4'!J31+'LUG-Set 5'!J31 -> 0
B13: Quanto risparmi questo mese?
B14: =+B5-B11 -> 0
F16: =+B14-LUGLIO!K5 -> 0
I18: Quali sono le categorie in cui spendi troppo?
I26: Cosa cambierai il prossimo mese?

Sheet AGOSTO
B2: MESE | C2: AGOSTO
B4: Quanti soldi ti entrano? | I4: Quanto vuoi risparmiare?
B5: DATA | C5: FONTE | F5: IMPORTO | I5: TOTALE (D)
I7: Per cosa?
C12: TOTALE (A) | F12: =SUM(F6:F11) -> 0
B14: Quanti soldi devono uscire? | I14: Quanto dovresti spendere?
B15: DATA | C15: CATEGORIA | F15: IMPORTO | I15: TOTALE (C) | K15: TOTALE (D) | M15: TOTALE (E)
I16: =+F30 -> 0 | K16: =+K5 -> 0 | M16: =+I16-K16 -> 0
I18: TOTALE (E) | K18: SETTIMANE | M18: TOTALE (E)
I19: =+M16 -> 0 | K19: 1 | M19: =+I19/K19 -> 0
I21: NOTE
C26: TOTALE (B) | F26: =SUM(F16:F25) -> 0
B28: Quanti soldi ti restano?
B29: TOTALE (A) | D29: TOTALE (B) | F29: TOTALE (C)
B30: =+F12 -> 0 | D30: =+F26 -> 0 | F30: =+B30-D30 -> 0

Sheet AGO-Set 1
B2: SETTIMANA 1 | C2: =AGOSTO!C2 -> AGOSTO | G2: BUDGET SETTIMANALE | J2: =+AGOSTO!M19 -> 0
G3: RISPARMIO SETTIMANALE | J3: =+J2-J31 -> 0
B4: CATEGORIA | C4: LUN | D4: MAR | E4: MER | F4: GIO | G4: VEN | H4: SAB | I4: DOM | J4: TOTALE | L4: MEMO
J5: =SUM(C5:I5) -> 0 | L5: Si può imparare a scrivere a ottant'anni
J6: =SUM(C6:I6) -> 0
J7: =SUM(C7:I7) -> 0
J8: =SUM(C8:I8) -> 0
J9: =SUM(C9:I9) -> 0
J10: =SUM(C10:I10) -> 0
J11: =SUM(C11:I11) -> 0
J12: =SUM(C12:I12) -> 0
J13: =SUM(C13:I13) -> 0
J14: =SUM(C14:I14) -> 0
J15: =SUM(C15:I15) -> 0
J16: =SUM(C16:I16) -> 0
J17: =SUM(C17:I17) -> 0
... J30: =SUM(C30:I30) -> 0
B31: TOTALE | C31: =SUM(C5:C30) -> 0 | D31: =SUM(D5:D30) -> 0 | E31: =SUM(E5:E30) -> 0 | F31: =SUM(F5:F30) -> 0 | G31: =SUM(G5:G30) -> 0 | H31: =SUM(H5:H30) -> 0 | I31: =SUM(I5:I30) -> 0 | J31: =SUM(C31:I31) -> 0

Sheet AGO-Set 2
B2: SETTIMANA 2 | C2: =AGOSTO!C2 -> AGOSTO | G2: BUDGET SETTIMANALE | J2: =+AGOSTO!M19 -> 0
G3: RISPARMIO SETTIMANALE | J3: =+J2-J31 -> 0
B4: CATEGORIA | C4: LUN | D4: MAR | E4: MER | F4: GIO | G4: VEN | H4: SAB | I4: DOM | J4: TOTALE | L4: MEMO
J5: =SUM(C5:I5) -> 0
J6: =SUM(C6:I6) -> 0
J7: =SUM(C7:I7) -> 0
J8: =SUM(C8:I8) -> 0
J9: =SUM(C9:I9) -> 0
J10: =SUM(C10:I10) -> 0
J11: =SUM(C11:I11) -> 0
J12: =SUM(C12:I12) -> 0
J13: =SUM(C13:I13) -> 0
J14: =SUM(C14:I14) -> 0
J15: =SUM(C15:I15) -> 0
J16: =SUM(C16:I16) -> 0
... J30: =SUM(C30:I30) -> 0
B31: TOTALE | C31: =SUM(C5:C30) -> 0 | D31: =SUM(D5:D30) -> 0 | E31: =SUM(E5:E30) -> 0 | F31: =SUM(F5:F30) -> 0 | G31: =SUM(G5:G30) -> 0 | H31: =SUM(H5:H30) -> 0 | I31: =SUM(I5:I30) -> 0 | J31: =SUM(C31:I31) -> 0

Sheet AGO-Set 3
B2: SETTIMANA 3 | C2: =AGOSTO!C2 -> AGOSTO | G2: BUDGET SETTIMANALE | J2: =+AGOSTO!M19 -> 0
G3: RISPARMIO SETTIMANALE | J3: =+J2-J31 -> 0
B4: CATEGORIA | C4: LUN | D4: MAR | E4: MER | F4: GIO | G4: VEN | H4: SAB | I4: DOM | J4: TOTALE | L4: MEMO
J5: =SUM(C5:I5) -> 0
J6: =SUM(C6:I6) -> 0
J7: =SUM(C7:I7) -> 0
J8: =SUM(C8:I8) -> 0
J9: =SUM(C9:I9) -> 0
J10: =SUM(C10:I10) -> 0
J11: =SUM(C11:I11) -> 0
J12: =SUM(C12:I12) -> 0
J13: =SUM(C13:I13) -> 0
J14: =SUM(C14:I14) -> 0
J15: =SUM(C15:I15) -> 0
J16: =SUM(C16:I16) -> 0
... J30: =SUM(C30:I30) -> 0
B31: TOTALE | C31: =SUM(C5:C30) -> 0 | D31: =SUM(D5:D30) -> 0 | E31: =SUM(E5:E30) -> 0 | F31: =SUM(F5:F30) -> 0 | G31: =SUM(G5:G30) -> 0 | H31: =SUM(H5:H30) -> 0 | I31: =SUM(I5:I30) -> 0 | J31: =SUM(C31:I31) -> 0

Sheet AGO-Set 4
B2: SETTIMANA 4 | C2: =AGOSTO!C2 -> AGOSTO | G2: BUDGET SETTIMANALE | J2: =+AGOSTO!M19 -> 0
G3: RISPARMIO SETTIMANALE | J3: =+J2-J31 -> 0
B4: CATEGORIA | C4: LUN | D4: MAR | E4: MER | F4: GIO | G4: VEN | H4: SAB | I4: DOM | J4: TOTALE | L4: MEMO
J5: =SUM(C5:I5) -> 0
J6: =SUM(C6:I6) -> 0
J7: =SUM(C7:I7) -> 0
J8: =SUM(C8:I8) -> 0
J9: =SUM(C9:I9) -> 0
J10: =SUM(C10:I10) -> 0
J11: =SUM(C11:I11) -> 0
J12: =SUM(C12:I12) -> 0
J13: =SUM(C13:I13) -> 0
J14: =SUM(C14:I14) -> 0
J15: =SUM(C15:I15) -> 0
J16: =SUM(C16:I16) -> 0
... J30: =SUM(C30:I30) -> 0
B31: TOTALE | C31: =SUM(C5:C30) -> 0 | D31: =SUM(D5:D30) -> 0 | E31: =SUM(E5:E30) -> 0 | F31: =SUM(F5:F30) -> 0 | G31: =SUM(G5:G30) -> 0 | H31: =SUM(H5:H30) -> 0 | I31: =SUM(I5:I30) -> 0 | J31: =SUM(C31:I31) -> 0

Sheet AGO-Set 5
B2: SETTIMANA 5 | C2: =AGOSTO!C2 -> AGOSTO | G2: BUDGET SETTIMANALE | J2: =IF(AGOSTO!K19=5,+AGOSTO!M19,0) -> 0
G3: RISPARMIO SETTIMANALE | J3: =+J2-J31 -> 0
B4: CATEGORIA | C4: LUN | D4: MAR | E4: MER | F4: GIO | G4: VEN | H4: SAB | I4: DOM | J4: TOTALE | L4: MEMO
J5: =SUM(C5:I5) -> 0
J6: =SUM(C6:I6) -> 0
J7: =SUM(C7:I7) -> 0
J8: =SUM(C8:I8) -> 0
J9: =SUM(C9:I9) -> 0
J10: =SUM(C10:I10) -> 0
J11: =SUM(C11:I11) -> 0
J12: =SUM(C12:I12) -> 0
J13: =SUM(C13:I13) -> 0
J14: =SUM(C14:I14) -> 0
J15: =SUM(C15:I15) -> 0
J16: =SUM(C16:I16) -> 0
... J30: =SUM(C30:I30) -> 0
B31: TOTALE | C31: =SUM(C5:C30) -> 0 | D31: =SUM(D5:D30) -> 0 | E31: =SUM(E5:E30) -> 0 | F31: =SUM(F5:F30) -> 0 | G31: =SUM(G5:G30) -> 0 | H31: =SUM(H5:H30) -> 0 | I31: =SUM(I5:I30) -> 0 | J31: =SUM(C31:I31) -> 0

Sheet AGO-REV
B2: REVISIONE | D2: =AGOSTO!C2 -> AGOSTO | I2: Hai raggiunto il tuo obiettivo di risparmio mensile?
B4: Quanti soldi potevi spendere questo mese?
B5: =+AGOSTO!I16 -> 0
B7: Quanto volevi spendere?
B8: =+AGOSTO!M16 -> 0
B10: Quanto hai speso? | I10: Che sistemi hai trovato per risparmiare?
B11: =+'AGO-Set 1'!J31+'AGO-Set 2'!J31+'AGO-Set 3'!J31+'AGO-Set 4'!J31+'AGO-Set 5'!J31 -> 0
B13: Quanto risparmi questo mese?
B14: =+B5-B11 -> 0
F16: =+B14-AGOSTO!K5 -> 0
I18: Quali sono le categorie in cui spendi troppo?
I26: Cosa cambierai il prossimo mese?

Sheet SETTEMBRE
B2: MESE | C2: SETTEMBRE
B4: Quanti soldi ti entrano? | I4: Quanto vuoi risparmiare?
B5: DATA | C5: FONTE | F5: IMPORTO | I5: TOTALE (D)
I7: Per cosa?
C12: TOTALE (A) | F12: =SUM(F6:F11) -> 0
B14: Quanti soldi devono uscire? | I14: Quanto dovresti spendere?
B15: DATA | C15: CATEGORIA | F15: IMPORTO | I15: TOTALE (C) | K15: TOTALE (D) | M15: TOTALE (E)
I16: =+F30 -> 0 | K16: =+K5 -> 0 | M16: =+I16-K16 -> 0
I18: TOTALE (E) | K18: SETTIMANE | M18: TOTALE (E)
I19: =+M16 -> 0 | K19: 1 | M19: =+I19/K19 -> 0
I21: NOTE
C26: TOTALE (B) | F26: =SUM(F16:F25) -> 0
B28: Quanti soldi ti restano?
B29: TOTALE (A) | D29: TOTALE (B) | F29: TOTALE (C)
B30: =+F12 -> 0 | D30: =+F26 -> 0 | F30: =+B30-D30 -> 0

Sheet SET-Set 1
B2: SETTIMANA 1 | C2: =SETTEMBRE!C2 -> SETTEMBRE | G2: BUDGET SETTIMANALE | J2: =+SETTEMBRE!M19 -> 0
G3: RISPARMIO SETTIMANALE | J3: =+J2-J31 -> 0
B4: CATEGORIA | C4: LUN | D4: MAR | E4: MER | F4: GIO | G4: VEN | H4: SAB | I4: DOM | J4: TOTALE | L4: MEMO
J5: =SUM(C5:I5) -> 0 | L5: Consulta chiunque, anche le tue ginocchia
J6: =SUM(C6:I6) -> 0
J7: =SUM(C7:I7) -> 0
J8: =SUM(C8:I8) -> 0
J9: =SUM(C9:I9) -> 0
J10: =SUM(C10:I10) -> 0
J11: =SUM(C11:I11) -> 0
J12: =SUM(C12:I12) -> 0
J13: =SUM(C13:I13) -> 0
J14: =SUM(C14:I14) -> 0
J15: =SUM(C15:I15) -> 0
J16: =SUM(C16:I16) -> 0
J17: =SUM(C17:I17) -> 0
... J30: =SUM(C30:I30) -> 0
B31: TOTALE | C31: =SUM(C5:C30) -> 0 | D31: =SUM(D5:D30) -> 0 | E31: =SUM(E5:E30) -> 0 | F31: =SUM(F5:F30) -> 0 | G31: =SUM(G5:G30) -> 0 | H31: =SUM(H5:H30) -> 0 | I31: =SUM(I5:I30) -> 0 | J31: =SUM(C31:I31) -> 0

Sheet SET-Set 2
B2: SETTIMANA 2 | C2: =SETTEMBRE!C2 -> SETTEMBRE | G2: BUDGET SETTIMANALE | J2: =+SETTEMBRE!M19 -> 0
G3: RISPARMIO SETTIMANALE | J3: =+J2-J31 -> 0
B4: CATEGORIA | C4: LUN | D4: MAR | E4: MER | F4: GIO | G4: VEN | H4: SAB | I4: DOM | J4: TOTALE | L4: MEMO
J5: =SUM(C5:I5) -> 0
J6: =SUM(C6:I6) -> 0
J7: =SUM(C7:I7) -> 0
J8: =SUM(C8:I8) -> 0
J9: =SUM(C9:I9) -> 0
J10: =SUM(C10:I10) -> 0
J11: =SUM(C11:I11) -> 0
J12: =SUM(C12:I12) -> 0
J13: =SUM(C13:I13) -> 0
J14: =SUM(C14:I14) -> 0
J15: =SUM(C15:I15) -> 0
J16: =SUM(C16:I16) -> 0
... J30: =SUM(C30:I30) -> 0
B31: TOTALE | C31: =SUM(C5:C30) -> 0 | D31: =SUM(D5:D30) -> 0 | E31: =SUM(E5:E30) -> 0 | F31: =SUM(F5:F30) -> 0 | G31: =SUM(G5:G30) -> 0 | H31: =SUM(H5:H30) -> 0 | I31: =SUM(I5:I30) -> 0 | J31: =SUM(C31:I31) -> 0

Sheet SET-Set 3
B2: SETTIMANA 3 | C2: =SETTEMBRE!C2 -> SETTEMBRE | G2: BUDGET SETTIMANALE | J2: =+SETTEMBRE!M19 -> 0
G3: RISPARMIO SETTIMANALE | J3: =+J2-J31 -> 0
B4: CATEGORIA | C4: LUN | D4: MAR | E4: MER | F4: GIO | G4: VEN | H4: SAB | I4: DOM | J4: TOTALE | L4: MEMO
J5: =SUM(C5:I5) -> 0
J6: =SUM(C6:I6) -> 0
J7: =SUM(C7:I7) -> 0
J8: =SUM(C8:I8) -> 0
J9: =SUM(C9:I9) -> 0
J10: =SUM(C10:I10) -> 0
J11: =SUM(C11:I11) -> 0
J12: =SUM(C12:I12) -> 0
J13: =SUM(C13:I13) -> 0
J14: =SUM(C14:I14) -> 0
J15: =SUM(C15:I15) -> 0
J16: =SUM(C16:I16) -> 0
... J30: =SUM(C30:I30) -> 0
B31: TOTALE | C31: =SUM(C5:C30) -> 0 | D31: =SUM(D5:D30) -> 0 | E31: =SUM(E5:E30) -> 0 | F31: =SUM(F5:F30) -> 0 | G31: =SUM(G5:G30) -> 0 | H31: =SUM(H5:H30) -> 0 | I31: =SUM(I5:I30) -> 0 | J31: =SUM(C31:I31) -> 0

Sheet SET-Set 4
B2: SETTIMANA 4 | C2: =SETTEMBRE!C2 -> SETTEMBRE | G2: BUDGET SETTIMANALE | J2: =+SETTEMBRE!M19 -> 0
G3: RISPARMIO SETTIMANALE | J3: =+J2-J31 -> 0
B4: CATEGORIA | C4: LUN | D4: MAR | E4: MER | F4: GIO | G4: VEN | H4: SAB | I4: DOM | J4: TOTALE | L4: MEMO
J5: =SUM(C5:I5) -> 0
J6: =SUM(C6:I6) -> 0
J7: =SUM(C7:I7) -> 0
J8: =SUM(C8:I8) -> 0
J9: =SUM(C9:I9) -> 0
J10: =SUM(C10:I10) -> 0
J11: =SUM(C11:I11) -> 0
J12: =SUM(C12:I12) -> 0
J13: =SUM(C13:I13) -> 0
J14: =SUM(C14:I14) -> 0
J15: =SUM(C15:I15) -> 0
J16: =SUM(C16:I16) -> 0
... J30: =SUM(C30:I30) -> 0
B31: TOTALE | C31: =SUM(C5:C30) -> 0 | D31: =SUM(D5:D30) -> 0 | E31: =SUM(E5:E30) -> 0 | F31: =SUM(F5:F30) -> 0 | G31: =SUM(G5:G30) -> 0 | H31: =SUM(H5:H30) -> 0 | I31: =SUM(I5:I30) -> 0 | J31: =SUM(C31:I31) -> 0

Sheet SET-Set 5
B2: SETTIMANA 5 | C2: =SETTEMBRE!C2 -> SETTEMBRE | G2: BUDGET SETTIMANALE | J2: =IF(SETTEMBRE!K19=5,+SETTEMBRE!M19,0) -> 0
G3: RISPARMIO SETTIMANALE | J3: =+J2-J31 -> 0
B4: CATEGORIA | C4: LUN | D4: MAR | E4: MER | F4: GIO | G4: VEN | H4: SAB | I4: DOM | J4: TOTALE | L4: MEMO
J5: =SUM(C5:I5) -> 0
J6: =SUM(C6:I6) -> 0
J7: =SUM(C7:I7) -> 0
J8: =SUM(C8:I8) -> 0
J9: =SUM(C9:I9) -> 0
J10: =SUM(C10:I10) -> 0
J11: =SUM(C11:I11) -> 0
J12: =SUM(C12:I12) -> 0
J13: =SUM(C13:I13) -> 0
J14: =SUM(C14:I14) -> 0
J15: =SUM(C15:I15) -> 0
J16: =SUM(C16:I16) -> 0
... J30: =SUM(C30:I30) -> 0
B31: TOTALE | C31: =SUM(C5:C30) -> 0 | D31: =SUM(D5:D30) -> 0 | E31: =SUM(E5:E30) -> 0 | F31: =SUM(F5:F30) -> 0 | G31: =SUM(G5:G30) -> 0 | H31: =SUM(H5:H30) -> 0 | I31: =SUM(I5:I30) -> 0 | J31: =SUM(C31:I31) -> 0

Sheet SET-REV
B2: REVISIONE | D2: =SETTEMBRE!C2 -> SETTEMBRE | I2: Hai raggiunto il tuo obiettivo di risparmio mensile?
B4: Quanti soldi potevi spendere questo mese?
B5: =+SETTEMBRE!I16 -> 0
B7: Quanto volevi spendere?
B8: =+SETTEMBRE!M16 -> 0
B10: Quanto hai speso? | I10: Che sistemi hai trovato per risparmiare?
B11: =+'SET-Set 1'!J31+'SET-Set 2'!J31+'SET-Set 3'!J31+'SET-Set 4'!J31+'SET-Set 5'!J31 -> 0
B13: Quanto risparmi questo mese?
B14: =+B5-B11 -> 0
F16: =+B14-SETTEMBRE!K5 -> 0
I18: Quali sono le categorie in cui spendi troppo?
I26: Cosa cambierai il prossimo mese?

Sheet OTTOBRE
B2: MESE | C2: OTTOBRE
B4: Quanti soldi ti entrano? | I4: Quanto vuoi risparmiare?
B5: DATA | C5: FONTE | F5: IMPORTO | I5: TOTALE (D)
I7: Per cosa?
C12: TOTALE (A) | F12: =SUM(F6:F11) -> 0
B14: Quanti soldi devono uscire? | I14: Quanto dovresti spendere?
B15: DATA | C15: CATEGORIA | F15: IMPORTO | I15: TOTALE (C) | K15: TOTALE (D) | M15: TOTALE (E)
I16: =+F30 -> 0 | K16: =+K5 -> 0 | M16: =+I16-K16 -> 0
I18: TOTALE (E) | K18: SETTIMANE | M18: TOTALE (E)
I19: =+M16 -> 0 | K19: 1 | M19: =+I19/K19 -> 0
I21: NOTE
C26: TOTALE (B) | F26: =SUM(F16:F25) -> 0
B28: Quanti soldi ti restano?
B29: TOTALE (A) | D29: TOTALE (B) | F29: TOTALE (C)
B30: =+F12 -> 0 | D30: =+F26 -> 0 | F30: =+B30-D30 -> 0

Sheet OTT-Set 1
B2: SETTIMANA 1 | C2: =OTTOBRE!C2 -> OTTOBRE | G2: BUDGET SETTIMANALE | J2: =+OTTOBRE!M19 -> 0
G3: RISPARMIO SETTIMANALE | J3: =+J2-J31 -> 0
B4: CATEGORIA | C4: LUN | D4: MAR | E4: MER | F4: GIO | G4: VEN | H4: SAB | I4: DOM | J4: TOTALE | L4: MEMO
J5: =SUM(C5:I5) -> 0 | L5: Il fallimento è la fonte del successo
J6: =SUM(C6:I6) -> 0
J7: =SUM(C7:I7) -> 0
J8: =SUM(C8:I8) -> 0
J9: =SUM(C9:I9) -> 0
J10: =SUM(C10:I10) -> 0
J11: =SUM(C11:I11) -> 0
J12: =SUM(C12:I12) -> 0
J13: =SUM(C13:I13) -> 0
J14: =SUM(C14:I14) -> 0
J15: =SUM(C15:I15) -> 0
J16: =SUM(C16:I16) -> 0
J17: =SUM(C17:I17) -> 0
... J30: =SUM(C30:I30) -> 0
B31: TOTALE | C31: =SUM(C5:C30) -> 0 | D31: =SUM(D5:D30) -> 0 | E31: =SUM(E5:E30) -> 0 | F31: =SUM(F5:F30) -> 0 | G31: =SUM(G5:G30) -> 0 | H31: =SUM(H5:H30) -> 0 | I31: =SUM(I5:I30) -> 0 | J31: =SUM(C31:I31) -> 0

Sheet OTT-Set 2
B2: SETTIMANA 2 | C2: =OTTOBRE!C2 -> OTTOBRE | G2: BUDGET SETTIMANALE | J2: =+OTTOBRE!M19 -> 0
G3: RISPARMIO SETTIMANALE | J3: =+J2-J31 -> 0
B4: CATEGORIA | C4: LUN | D4: MAR | E4: MER | F4: GIO | G4: VEN | H4: SAB | I4: DOM | J4: TOTALE | L4: MEMO
J5: =SUM(C5:I5) -> 0
J6: =SUM(C6:I6) -> 0
J7: =SUM(C7:I7) -> 0
J8: =SUM(C8:I8) -> 0
J9: =SUM(C9:I9) -> 0
J10: =SUM(C10:I10) -> 0
J11: =SUM(C11:I11) -> 0
J12: =SUM(C12:I12) -> 0
J13: =SUM(C13:I13) -> 0
J14: =SUM(C14:I14) -> 0
J15: =SUM(C15:I15) -> 0
J16: =SUM(C16:I16) -> 0
... J30: =SUM(C30:I30) -> 0
B31: TOTALE | C31: =SUM(C5:C30) -> 0 | D31: =SUM(D5:D30) -> 0 | E31: =SUM(E5:E30) -> 0 | F31: =SUM(F5:F30) -> 0 | G31: =SUM(G5:G30) -> 0 | H31: =SUM(H5:H30) -> 0 | I31: =SUM(I5:I30) -> 0 | J31: =SUM(C31:I31) -> 0

Sheet OTT-Set 3
B2: SETTIMANA 3 | C2: =OTTOBRE!C2 -> OTTOBRE | G2: BUDGET SETTIMANALE | J2: =+OTTOBRE!M19 -> 0
G3: RISPARMIO SETTIMANALE | J3: =+J2-J31 -> 0
B4: CATEGORIA | C4: LUN | D4: MAR | E4: MER | F4: GIO | G4: VEN | H4: SAB | I4: DOM | J4: TOTALE | L4: MEMO
J5: =SUM(C5:I5) -> 0
J6: =SUM(C6:I6) -> 0
J7: =SUM(C7:I7) -> 0
J8: =SUM(C8:I8) -> 0
J9: =SUM(C9:I9) -> 0
J10: =SUM(C10:I10) -> 0
J11: =SUM(C11:I11) -> 0
J12: =SUM(C12:I12) -> 0
J13: =SUM(C13:I13) -> 0
J14: =SUM(C14:I14) -> 0
J15: =SUM(C15:I15) -> 0
J16: =SUM(C16:I16) -> 0
... J30: =SUM(C30:I30) -> 0
B31: TOTALE | C31: =SUM(C5:C30) -> 0 | D31: =SUM(D5:D30) -> 0 | E31: =SUM(E5:E30) -> 0 | F31: =SUM(F5:F30) -> 0 | G31: =SUM(G5:G30) -> 0 | H31: =SUM(H5:H30) -> 0 | I31: =SUM(I5:I30) -> 0 | J31: =SUM(C31:I31) -> 0

Sheet OTT-Set 4
B2: SETTIMANA 4 | C2: =OTTOBRE!C2 -> OTTOBRE | G2: BUDGET SETTIMANALE | J2: =+OTTOBRE!M19 -> 0
G3: RISPARMIO SETTIMANALE | J3: =+J2-J31 -> 0
B4: CATEGORIA | C4: LUN | D4: MAR | E4: MER | F4: GIO | G4: VEN | H4: SAB | I4: DOM | J4: TOTALE | L4: MEMO
J5: =SUM(C5:I5) -> 0
J6: =SUM(C6:I6) -> 0
J7: =SUM(C7:I7) -> 0
J8: =SUM(C8:I8) -> 0
J9: =SUM(C9:I9) -> 0
J10: =SUM(C10:I10) -> 0
J11: =SUM(C11:I11) -> 0
J12: =SUM(C12:I12) -> 0
J13: =SUM(C13:I13) -> 0
J14: =SUM(C14:I14) -> 0
J15: =SUM(C15:I15) -> 0
J16: =SUM(C16:I16) -> 0
... J30: =SUM(C30:I30) -> 0
B31: TOTALE | C31: =SUM(C5:C30) -> 0 | D31: =SUM(D5:D30) -> 0 | E31: =SUM(E5:E30) -> 0 | F31: =SUM(F5:F30) -> 0 | G31: =SUM(G5:G30) -> 0 | H31: =SUM(H5:H30) -> 0 | I31: =SUM(I5:I30) -> 0 | J31: =SUM(C31:I31) -> 0

Sheet OTT-Set 5
B2: SETTIMANA 5 | C2: =OTTOBRE!C2 -> OTTOBRE | G2: BUDGET SETTIMANALE | J2: =IF(OTTOBRE!K19=5,+OTTOBRE!M19,0) -> 0
G3: RISPARMIO SETTIMANALE | J3: =+J2-J31 -> 0
B4: CATEGORIA | C4: LUN | D4: MAR | E4: MER | F4: GIO | G4: VEN | H4: SAB | I4: DOM | J4: TOTALE | L4: MEMO
J5: =SUM(C5:I5) -> 0
J6: =SUM(C6:I6) -> 0
J7: =SUM(C7:I7) -> 0
J8: =SUM(C8:I8) -> 0
J9: =SUM(C9:I9) -> 0
J10: =SUM(C10:I10) -> 0
J11: =SUM(C11:I11) -> 0
J12: =SUM(C12:I12) -> 0
J13: =SUM(C13:I13) -> 0
J14: =SUM(C14:I14) -> 0
J15: =SUM(C15:I15) -> 0
J16: =SUM(C16:I16) -> 0
... J30: =SUM(C30:I30) -> 0
B31: TOTALE | C31: =SUM(C5:C30) -> 0 | D31: =SUM(D5:D30) -> 0 | E31: =SUM(E5:E30) -> 0 | F31: =SUM(F5:F30) -> 0 | G31: =SUM(G5:G30) -> 0 | H31: =SUM(H5:H30) -> 0 | I31: =SUM(I5:I30) -> 0 | J31: =SUM(C31:I31) -> 0

Sheet OTT-REV
B2: REVISIONE | D2: =OTTOBRE!C2 -> OTTOBRE | I2: Hai raggiunto il tuo obiettivo di risparmio mensile?
B4: Quanti soldi potevi spendere questo mese?
B5: =+OTTOBRE!I16 -> 0
B7: Quanto volevi spendere?
B8: =+OTTOBRE!M16 -> 0
B10: Quanto hai speso? | I10: Che sistemi hai trovato per risparmiare?
B11: =+'OTT-Set 1'!J31+'OTT-Set 2'!J31+'OTT-Set 3'!J31+'OTT-Set 4'!J31+'OTT-Set 5'!J31 -> 0
B13: Quanto risparmi questo mese?
B14: =+B5-B11 -> 0
F16: =+B14-OTTOBRE!K5 -> 0
I18: Quali sono le categorie in cui spendi troppo?
I26: Cosa cambierai il prossimo mese?

Sheet NOVEMBRE
B2: MESE | C2: NOVEMBRE
B4: Quanti soldi ti entrano? | I4: Quanto vuoi risparmiare?
B5: DATA | C5: FONTE | F5: IMPORTO | I5: TOTALE (D)
I7: Per cosa?
C12: TOTALE (A) | F12: =SUM(F6:F11) -> 0
B14: Quanti soldi devono uscire? | I14: Quanto dovresti spendere?
B15: DATA | C15: CATEGORIA | F15: IMPORTO | I15: TOTALE (C) | K15: TOTALE (D) | M15: TOTALE (E)
I16: =+F30 -> 0 | K16: =+K5 -> 0 | M16: =+I16-K16 -> 0
I18: TOTALE (E) | K18: SETTIMANE | M18: TOTALE (E)
I19: =+M16 -> 0 | K19: 1 | M19: =+I19/K19 -> 0
I21: NOTE
C26: TOTALE (B) | F26: =SUM(F16:F25) -> 0
B28: Quanti soldi ti restano?
B29: TOTALE (A) | D29: TOTALE (B) | F29: TOTALE (C)
B30: =+F12 -> 0 | D30: =+F26 -> 0 | F30: =+B30-D30 -> 0

Sheet NOV-Set 1
B2: SETTIMANA 1 | C2: =NOVEMBRE!C2 -> NOVEMBRE | G2: BUDGET SETTIMANALE | J2: =+NOVEMBRE!M19 -> 0
G3: RISPARMIO SETTIMANALE | J3: =+J2-J31 -> 0
B4: CATEGORIA | C4: LUN | D4: MAR | E4: MER | F4: GIO | G4: VEN | H4: SAB | I4: DOM | J4: TOTALE | L4: MEMO
J5: =SUM(C5:I5) -> 0 | L5: Le gocce di pioggia possono scavare anche la pietra
J6: =SUM(C6:I6) -> 0
J7: =SUM(C7:I7) -> 0
J8: =SUM(C8:I8) -> 0
J9: =SUM(C9:I9) -> 0
J10: =SUM(C10:I10) -> 0
J11: =SUM(C11:I11) -> 0
J12: =SUM(C12:I12) -> 0
J13: =SUM(C13:I13) -> 0
J14: =SUM(C14:I14) -> 0
J15: =SUM(C15:I15) -> 0
J16: =SUM(C16:I16) -> 0
J17: =SUM(C17:I17) -> 0
... J30: =SUM(C30:I30) -> 0
B31: TOTALE | C31: =SUM(C5:C30) -> 0 | D31: =SUM(D5:D30) -> 0 | E31: =SUM(E5:E30) -> 0 | F31: =SUM(F5:F30) -> 0 | G31: =SUM(G5:G30) -> 0 | H31: =SUM(H5:H30) -> 0 | I31: =SUM(I5:I30) -> 0 | J31: =SUM(C31:I31) -> 0

Sheet NOV-Set 2
B2: SETTIMANA 2 | C2: =NOVEMBRE!C2 -> NOVEMBRE | G2: BUDGET SETTIMANALE | J2: =+NOVEMBRE!M19 -> 0
G3: RISPARMIO SETTIMANALE | J3: =+J2-J31 -> 0
B4: CATEGORIA | C4: LUN | D4: MAR | E4: MER | F4: GIO | G4: VEN | H4: SAB | I4: DOM | J4: TOTALE | L4: MEMO
J5: =SUM(C5:I5) -> 0
J6: =SUM(C6:I6) -> 0
J7: =SUM(C7:I7) -> 0
J8: =SUM(C8:I8) -> 0
J9: =SUM(C9:I9) -> 0
J10: =SUM(C10:I10) -> 0
J11: =SUM(C11:I11) -> 0
J12: =SUM(C12:I12) -> 0
J13: =SUM(C13:I13) -> 0
J14: =SUM(C14:I14) -> 0
J15: =SUM(C15:I15) -> 0
J16: =SUM(C16:I16) -> 0
... J30: =SUM(C30:I30) -> 0
B31: TOTALE | C31: =SUM(C5:C30) -> 0 | D31: =SUM(D5:D30) -> 0 | E31: =SUM(E5:E30) -> 0 | F31: =SUM(F5:F30) -> 0 | G31: =SUM(G5:G30) -> 0 | H31: =SUM(H5:H30) -> 0 | I31: =SUM(I5:I30) -> 0 | J31: =SUM(C31:I31) -> 0

Sheet NOV-Set 3
B2: SETTIMANA 3 | C2: =NOVEMBRE!C2 -> NOVEMBRE | G2: BUDGET SETTIMANALE | J2: =+NOVEMBRE!M19 -> 0
G3: RISPARMIO SETTIMANALE | J3: =+J2-J31 -> 0
B4: CATEGORIA | C4: LUN | D4: MAR | E4: MER | F4: GIO | G4: VEN | H4: SAB | I4: DOM | J4: TOTALE | L4: MEMO
J5: =SUM(C5:I5) -> 0
J6: =SUM(C6:I6) -> 0
J7: =SUM(C7:I7) -> 0
J8: =SUM(C8:I8) -> 0
J9: =SUM(C9:I9) -> 0
J10: =SUM(C10:I10) -> 0
J11: =SUM(C11:I11) -> 0
J12: =SUM(C12:I12) -> 0
J13: =SUM(C13:I13) -> 0
J14: =SUM(C14:I14) -> 0
J15: =SUM(C15:I15) -> 0
J16: =SUM(C16:I16) -> 0
... J30: =SUM(C30:I30) -> 0
B31: TOTALE | C31: =SUM(C5:C30) -> 0 | D31: =SUM(D5:D30) -> 0 | E31: =SUM(E5:E30) -> 0 | F31: =SUM(F5:F30) -> 0 | G31: =SUM(G5:G30) -> 0 | H31: =SUM(H5:H30) -> 0 | I31: =SUM(I5:I30) -> 0 | J31: =SUM(C31:I31) -> 0

Sheet NOV-Set 4
B2: SETTIMANA 4 | C2: =NOVEMBRE!C2 -> NOVEMBRE | G2: BUDGET SETTIMANALE | J2: =+NOVEMBRE!M19 -> 0
G3: RISPARMIO SETTIMANALE | J3: =+J2-J31 -> 0
B4: CATEGORIA | C4: LUN | D4: MAR | E4: MER | F4: GIO | G4: VEN | H4: SAB | I4: DOM | J4: TOTALE | L4: MEMO
J5: =SUM(C5:I5) -> 0
J6: =SUM(C6:I6) -> 0
J7: =SUM(C7:I7) -> 0
J8: =SUM(C8:I8) -> 0
J9: =SUM(C9:I9) -> 0
J10: =SUM(C10:I10) -> 0
J11: =SUM(C11:I11) -> 0
J12: =SUM(C12:I12) -> 0
J13: =SUM(C13:I13) -> 0
J14: =SUM(C14:I14) -> 0
J15: =SUM(C15:I15) -> 0
J16: =SUM(C16:I16) -> 0
... J30: =SUM(C30:I30) -> 0
B31: TOTALE | C31: =SUM(C5:C30) -> 0 | D31: =SUM(D5:D30) -> 0 | E31: =SUM(E5:E30) -> 0 | F31: =SUM(F5:F30) -> 0 | G31: =SUM(G5:G30) -> 0 | H31: =SUM(H5:H30) -> 0 | I31: =SUM(I5:I30) -> 0 | J31: =SUM(C31:I31) -> 0

Sheet NOV-Set 5
B2: SETTIMANA 5 | C2: =NOVEMBRE!C2 -> NOVEMBRE | G2: BUDGET SETTIMANALE | J2: =IF(NOVEMBRE!K19=5,+NOVEMBRE!M19,0) -> 0
G3: RISPARMIO SETTIMANALE | J3: =+J2-J31 -> 0
B4: CATEGORIA | C4: LUN | D4: MAR | E4: MER | F4: GIO | G4: VEN | H4: SAB | I4: DOM | J4: TOTALE | L4: MEMO
J5: =SUM(C5:I5) -> 0
J6: =SUM(C6:I6) -> 0
J7: =SUM(C7:I7) -> 0
J8: =SUM(C8:I8) -> 0
J9: =SUM(C9:I9) -> 0
J10: =SUM(C10:I10) -> 0
J11: =SUM(C11:I11) -> 0
J12: =SUM(C12:I12) -> 0
J13: =SUM(C13:I13) -> 0
J14: =SUM(C14:I14) -> 0
J15: =SUM(C15:I15) -> 0
J16: =SUM(C16:I16) -> 0
... J30: =SUM(C30:I30) -> 0
B31: TOTALE | C31: =SUM(C5:C30) -> 0 | D31: =SUM(D5:D30) -> 0 | E31: =SUM(E5:E30) -> 0 | F31: =SUM(F5:F30) -> 0 | G31: =SUM(G5:G30) -> 0 | H31: =SUM(H5:H30) -> 0 | I31: =SUM(I5:I30) -> 0 | J31: =SUM(C31:I31) -> 0

Sheet NOV-REV
B2: REVISIONE | D2: =NOVEMBRE!C2 -> NOVEMBRE | I2: Hai raggiunto il tuo obiettivo di risparmio mensile?
B4: Quanti soldi potevi spendere questo mese?
B5: =+NOVEMBRE!I16 -> 0
B7: Quanto volevi spendere?
B8: =+NOVEMBRE!M16 -> 0
B10: Quanto hai speso? | I10: Che sistemi hai trovato per risparmiare?
B11: =+'NOV-Set 1'!J31+'NOV-Set 2'!J31+'NOV-Set 3'!J31+'NOV-Set 4'!J31+'NOV-Set 5'!J31 -> 0
B13: Quanto risparmi questo mese?
B14: =+B5-B11 -> 0
F16: =+B14-NOVEMBRE!K5 -> 0
I18: Quali sono le categorie in cui spendi troppo?
I26: Cosa cambierai il prossimo mese?

Sheet DICEMBRE
B2: MESE | C2: DICEMBRE
B4: Quanti soldi ti entrano? | I4: Quanto vuoi risparmiare?
B5: DATA | C5: FONTE | F5: IMPORTO | I5: TOTALE (D)
I7: Per cosa?
C12: TOTALE (A) | F12: =SUM(F6:F11) -> 0
B14: Quanti soldi devono uscire? | I14: Quanto dovresti spendere?
B15: DATA | C15: CATEGORIA | F15: IMPORTO | I15: TOTALE (C) | K15: TOTALE (D) | M15: TOTALE (E)
I16: =+F30 -> 0 | K16: =+K5 -> 0 | M16: =+I16-K16 -> 0
I18: TOTALE (E) | K18: SETTIMANE | M18: TOTALE (E)
I19: =+M16 -> 0 | K19: 1 | M19: =+I19/K19 -> 0
I21: NOTE
C26: TOTALE (B) | F26: =SUM(F16:F25) -> 0
B28: Quanti soldi ti restano?
B29: TOTALE (A) | D29: TOTALE (B) | F29: TOTALE (C)
B30: =+F12 -> 0 | D30: =+F26 -> 0 | F30: =+B30-D30 -> 0

Sheet DIC-Set 1
B2: SETTIMANA 1 | C2: =DICEMBRE!C2 -> DICEMBRE | G2: BUDGET SETTIMANALE | J2: =+DICEMBRE!M19 -> 0
G3: RISPARMIO SETTIMANALE | J3: =+J2-J31 -> 0
B4: CATEGORIA | C4: LUN | D4: MAR | E4: MER | F4: GIO | G4: VEN | H4: SAB | I4: DOM | J4: TOTALE | L4: MEMO
J5: =SUM(C5:I5) -> 0 | L5: E' meglio piegarsi che spezzarsi
J6: =SUM(C6:I6) -> 0
J7: =SUM(C7:I7) -> 0
J8: =SUM(C8:I8) -> 0
J9: =SUM(C9:I9) -> 0
J10: =SUM(C10:I10) -> 0
J11: =SUM(C11:I11) -> 0
J12: =SUM(C12:I12) -> 0
J13: =SUM(C13:I13) -> 0
J14: =SUM(C14:I14) -> 0
J15: =SUM(C15:I15) -> 0
J16: =SUM(C16:I16) -> 0
J17: =SUM(C17:I17) -> 0
... J30: =SUM(C30:I30) -> 0
B31: TOTALE | C31: =SUM(C5:C30) -> 0 | D31: =SUM(D5:D30) -> 0 | E31: =SUM(E5:E30) -> 0 | F31: =SUM(F5:F30) -> 0 | G31: =SUM(G5:G30) -> 0 | H31: =SUM(H5:H30) -> 0 | I31: =SUM(I5:I30) -> 0 | J31: =SUM(C31:I31) -> 0

Sheet DIC-Set 2
B2: SETTIMANA 2 | C2: =DICEMBRE!C2 -> DICEMBRE | G2: BUDGET SETTIMANALE | J2: =+DICEMBRE!M19 -> 0
G3: RISPARMIO SETTIMANALE | J3: =+J2-J31 -> 0
B4: CATEGORIA | C4: LUN | D4: MAR | E4: MER | F4: GIO | G4: VEN | H4: SAB | I4: DOM | J4: TOTALE | L4: MEMO
J5: =SUM(C5:I5) -> 0
J6: =SUM(C6:I6) -> 0
J7: =SUM(C7:I7) -> 0
J8: =SUM(C8:I8) -> 0
J9: =SUM(C9:I9) -> 0
J10: =SUM(C10:I10) -> 0
J11: =SUM(C11:I11) -> 0
J12: =SUM(C12:I12) -> 0
J13: =SUM(C13:I13) -> 0
J14: =SUM(C14:I14) -> 0
J15: =SUM(C15:I15) -> 0
J16: =SUM(C16:I16) -> 0
... J30: =SUM(C30:I30) -> 0
B31: TOTALE | C31: =SUM(C5:C30) -> 0 | D31: =SUM(D5:D30) -> 0 | E31: =SUM(E5:E30) -> 0 | F31: =SUM(F5:F30) -> 0 | G31: =SUM(G5:G30) -> 0 | H31: =SUM(H5:H30) -> 0 | I31: =SUM(I5:I30) -> 0 | J31: =SUM(C31:I31) -> 0

Sheet DIC-Set 3
B2: SETTIMANA 3 | C2: =DICEMBRE!C2 -> DICEMBRE | G2: BUDGET SETTIMANALE | J2: =+DICEMBRE!M19 -> 0
G3: RISPARMIO SETTIMANALE | J3: =+J2-J31 -> 0
B4: CATEGORIA | C4: LUN | D4: MAR | E4: MER | F4: GIO | G4: VEN | H4: SAB | I4: DOM | J4: TOTALE | L4: MEMO
J5: =SUM(C5:I5) -> 0
J6: =SUM(C6:I6) -> 0
J7: =SUM(C7:I7) -> 0
J8: =SUM(C8:I8) -> 0
J9: =SUM(C9:I9) -> 0
J10: =SUM(C10:I10) -> 0
J11: =SUM(C11:I11) -> 0
J12: =SUM(C12:I12) -> 0
J13: =SUM(C13:I13) -> 0
J14: =SUM(C14:I14) -> 0
J15: =SUM(C15:I15) -> 0
J16: =SUM(C16:I16) -> 0
... J30: =SUM(C30:I30) -> 0
B31: TOTALE | C31: =SUM(C5:C30) -> 0 | D31: =SUM(D5:D30) -> 0 | E31: =SUM(E5:E30) -> 0 | F31: =SUM(F5:F30) -> 0 | G31: =SUM(G5:G30) -> 0 | H31: =SUM(H5:H30) -> 0 | I31: =SUM(I5:I30) -> 0 | J31: =SUM(C31:I31) -> 0

Sheet DIC-Set 4
B2: SETTIMANA 4 | C2: =DICEMBRE!C2 -> DICEMBRE | G2: BUDGET SETTIMANALE | J2: =+DICEMBRE!M19 -> 0
G3: RISPARMIO SETTIMANALE | J3: =+J2-J31 -> 0
B4: CATEGORIA | C4: LUN | D4: MAR | E4: MER | F4: GIO | G4: VEN | H4: SAB | I4: DOM | J4: TOTALE | L4: MEMO
J5: =SUM(C5:I5) -> 0
J6: =SUM(C6:I6) -> 0
J7: =SUM(C7:I7) -> 0
J8: =SUM(C8:I8) -> 0
J9: =SUM(C9:I9) -> 0
J10: =SUM(C10:I10) -> 0
J11: =SUM(C11:I11) -> 0
J12: =SUM(C12:I12) -> 0
J13: =SUM(C13:I13) -> 0
J14: =SUM(C14:I14) -> 0
J15: =SUM(C15:I15) -> 0
J16: =SUM(C16:I16) -> 0
... J30: =SUM(C30:I30) -> 0
B31: TOTALE | C31: =SUM(C5:C30) -> 0 | D31: =SUM(D5:D30) -> 0 | E31: =SUM(E5:E30) -> 0 | F31: =SUM(F5:F30) -> 0 | G31: =SUM(G5:G30) -> 0 | H31: =SUM(H5:H30) -> 0 | I31: =SUM(I5:I30) -> 0 | J31: =SUM(C31:I31) -> 0

Sheet DIC-Set 5
B2: SETTIMANA 5 | C2: =DICEMBRE!C2 -> DICEMBRE | G2: BUDGET SETTIMANALE | J2: =IF(DICEMBRE!K19=5,+DICEMBRE!M19,0) -> 0
G3: RISPARMIO SETTIMANALE | J3: =+J2-J31 -> 0
B4: CATEGORIA | C4: LUN | D4: MAR | E4: MER | F4: GIO | G4: VEN | H4: SAB | I4: DOM | J4: TOTALE | L4: MEMO
J5: =SUM(C5:I5) -> 0
J6: =SUM(C6:I6) -> 0
J7: =SUM(C7:I7) -> 0
J8: =SUM(C8:I8) -> 0
J9: =SUM(C9:I9) -> 0
J10: =SUM(C10:I10) -> 0
J11: =SUM(C11:I11) -> 0
J12: =SUM(C12:I12) -> 0
J13: =SUM(C13:I13) -> 0
J14: =SUM(C14:I14) -> 0
J15: =SUM(C15:I15) -> 0
J16: =SUM(C16:I16) -> 0
... J30: =SUM(C30:I30) -> 0
B31: TOTALE | C31: =SUM(C5:C30) -> 0 | D31: =SUM(D5:D30) -> 0 | E31: =SUM(E5:E30) -> 0 | F31: =SUM(F5:F30) -> 0 | G31: =SUM(G5:G30) -> 0 | H31: =SUM(H5:H30) -> 0 | I31: =SUM(I5:I30) -> 0 | J31: =SUM(C31:I31) -> 0

Sheet DIC-REV
B2: REVISIONE | D2: =DICEMBRE!C2 -> DICEMBRE | I2: Hai raggiunto il tuo obiettivo di risparmio mensile?
B4: Quanti soldi potevi spendere questo mese?
B5: =+DICEMBRE!I16 -> 0
B7: Quanto volevi spendere?
B8: =+DICEMBRE!M16 -> 0
B10: Quanto hai speso? | I10: Che sistemi hai trovato per risparmiare?
B11: =+'DIC-Set 1'!J31+'DIC-Set 2'!J31+'DIC-Set 3'!J31+'DIC-Set 4'!J31+'DIC-Set 5'!J31 -> 0
B13: Quanto risparmi questo mese?
B14: =+B5-B11 -> 0
F16: =+B14-DICEMBRE!K5 -> 0
I18: Quali sono le categorie in cui spendi troppo?
I26: Cosa cambierai il prossimo mese?

Sheet Grafico anno
K2: Target | L2: Spesa | M2: Risparmio | N2: Delta obiettivo risparmio
J3: Gennaio | K3: =+'GEN-REV'!B8 -> 911 | L3: =+'GEN-REV'!B11 -> 650 | M3: =+'GEN-REV'!B14 -> 661 | N3: =+'GEN-REV'!F16 -> 261
J4: Febbraio | K4: =+'FEB-REV'!B8 -> 0 | L4: =+'FEB-REV'!B11 -> 0 | M4: =+'FEB-REV'!B14 -> 0 | N4: =+'FEB-REV'!F16 -> 0
A5: Quanto volevi spendere | B5: =+'GEN-REV'!B8:F8+'FEB-REV'!B8:F8+'MAR-REV'!B8:F8+'APR-REV'!B8:F8+'MAG-REV'!B8:F8+'GIU-REV'!B8:F8+'LUG-REV'!B8:F8+'AGO-REV'!B8:F8+'SET-REV'!B8:F8+'OTT-REV'!B8:F8+'NOV-REV'!B8:F8+'DIC-REV'!B8:F8 -> 911 | J5: Marzo | K5: =+'MAR-REV'!B8 -> 0 | L5: =+'MAR-REV'!B11 -> 0 | M5: =+'MAR-REV'!B14 -> 0 | N5: =+'MAR-REV'!F16 -> 0
A6: Spese annuali | B6: =+'GEN-REV'!B11:F11+'FEB-REV'!B11:F11+'MAR-REV'!B11:F11+'APR-REV'!B11:F11+'MAG-REV'!B11:F11+'GIU-REV'!B11:F11+'LUG-REV'!B11:F11+'AGO-REV'!B11:F11+'SET-REV'!B11:F11+'OTT-REV'!B11:F11+'NOV-REV'!B11:F11+'DIC-REV'!B11:F11 -> 650 | J6: Aprile | K6: =+'APR-REV'!B8 -> 0 | L6: =+'APR-REV'!B11 -> 0 | M6: =+'APR-REV'!B14 -> 0 | N6: =+'APR-REV'!F16 -> 0
A7: Risparmio annuale | B7: =+'GEN-REV'!B14:F14+'FEB-REV'!B14:F14+'MAR-REV'!B14:F14+'APR-REV'!B14:F14+'MAG-REV'!B14:F14+'GIU-REV'!B14:F14+'LUG-REV'!B14:F14+'AGO-REV'!B14:F14+'SET-REV'!B14:F14+'OTT-REV'!B14:F14+'NOV-REV'!B14:F14+'DIC-REV'!B14:F14 -> 661 | J7: Maggio | K7: =+'MAG-REV'!B8 -> 0 | L7: =+'MAG-REV'!B11 -> 0 | M7: =+'MAG-REV'!B14 -> 0 | N7: =+'MAG-REV'!F16 -> 0
A8: Delta obiettivo aanuale | B8: =+'GEN-REV'!F16+'FEB-REV'!F16+'MAR-REV'!F16+'APR-REV'!F16+'MAG-REV'!F16+'GIU-REV'!F16+'LUG-REV'!F16+'AGO-REV'!F16+'SET-REV'!F16+'OTT-REV'!F16+'NOV-REV'!F16+'DIC-REV'!F16 -> 261 | J8: Giugno | K8: =+'GIU-REV'!B8 -> 0 | L8: =+'GIU-REV'!B11 -> 0 | M8: =+'GIU-REV'!B14 -> 0 | N8: =+'GIU-REV'!F16 -> 0
J9: Luglio | K9: =+'LUG-REV'!B8 -> 0 | L9: =+'LUG-REV'!B11 -> 0 | M9: =+'LUG-REV'!B14 -> 0 | N9: =+'LUG-REV'!F16 -> 0
J10: Agosto | K10: =+'AGO-REV'!B8 -> 0 | L10: =+'AGO-REV'!B11 -> 0 | M10: =+'AGO-REV'!B14 -> 0 | N10: =+'AGO-REV'!F16 -> 0
J11: Settembre | K11: =+'SET-REV'!B8 -> 0 | L11: =+'SET-REV'!B11 -> 0 | M11: =+'SET-REV'!B14 -> 0 | N11: =+'SET-REV'!F16 -> 0
J12: Ottobre | K12: =+'OTT-REV'!B8 -> 0 | L12: =+'OTT-REV'!B11 -> 0 | M12: =+'OTT-REV'!B14 -> 0 | N12: =+'OTT-REV'!F16 -> 0
J13: Novembre | K13: =+'NOV-REV'!B8 -> 0 | L13: =+'NOV-REV'!B11 -> 0 | M13: =+'NOV-REV'!B14 -> 0 | N13: =+'NOV-REV'!F16 -> 0
J14: Dicembre | K14: =+'DIC-REV'!B8 -> 0 | L14: =+'DIC-REV'!B11 -> 0 | M14: =+'DIC-REV'!B14 -> 0 | N14: =+'DIC-REV'!F16 -> 0
J15: TOT | K15: =SUM(K3:K14) -> 911 | L15: =SUM(L3:L14) -> 650 | M15: =SUM(M3:M14) -> 661 | N15: =SUM(N3:N14) -> 261
